BEGIN:VCALENDAR
VERSION:2.0
PRODID:-//Maryville Stables - ECPv6.15.18//NONSGML v1.0//EN
CALSCALE:GREGORIAN
METHOD:PUBLISH
X-ORIGINAL-URL:https://www.maryvillestables.ie
X-WR-CALDESC:Events for Maryville Stables
REFRESH-INTERVAL;VALUE=DURATION:PT1H
X-Robots-Tag:noindex
X-PUBLISHED-TTL:PT1H
BEGIN:VTIMEZONE
TZID:Europe/Dublin
BEGIN:DAYLIGHT
TZOFFSETFROM:+0000
TZOFFSETTO:+0100
TZNAME:IST
DTSTART:20220327T010000
END:DAYLIGHT
BEGIN:STANDARD
TZOFFSETFROM:+0100
TZOFFSETTO:+0000
TZNAME:GMT
DTSTART:20221030T010000
END:STANDARD
BEGIN:DAYLIGHT
TZOFFSETFROM:+0000
TZOFFSETTO:+0100
TZNAME:IST
DTSTART:20230326T010000
END:DAYLIGHT
BEGIN:STANDARD
TZOFFSETFROM:+0100
TZOFFSETTO:+0000
TZNAME:GMT
DTSTART:20231029T010000
END:STANDARD
BEGIN:DAYLIGHT
TZOFFSETFROM:+0000
TZOFFSETTO:+0100
TZNAME:IST
DTSTART:20240331T010000
END:DAYLIGHT
BEGIN:STANDARD
TZOFFSETFROM:+0100
TZOFFSETTO:+0000
TZNAME:GMT
DTSTART:20241027T010000
END:STANDARD
BEGIN:DAYLIGHT
TZOFFSETFROM:+0000
TZOFFSETTO:+0100
TZNAME:IST
DTSTART:20250330T010000
END:DAYLIGHT
BEGIN:STANDARD
TZOFFSETFROM:+0100
TZOFFSETTO:+0000
TZNAME:GMT
DTSTART:20251026T010000
END:STANDARD
END:VTIMEZONE
BEGIN:VEVENT
DTSTART;VALUE=DATE:20231008
DTEND;VALUE=DATE:20231009
DTSTAMP:20260422T225956
CREATED:20230925T193851Z
LAST-MODIFIED:20230925T193851Z
UID:10000113-1696723200-1696809599@www.maryvillestables.ie
SUMMARY:Interschools Showjumping
DESCRIPTION:
URL:https://www.maryvillestables.ie/event/interschools-showjumping-2/
LOCATION:Maryville Stables\, Ireland
CATEGORIES:2023
END:VEVENT
BEGIN:VEVENT
DTSTART;VALUE=DATE:20231014
DTEND;VALUE=DATE:20231015
DTSTAMP:20260422T225956
CREATED:20230829T114026Z
LAST-MODIFIED:20230829T114026Z
UID:10000112-1697241600-1697327999@www.maryvillestables.ie
SUMMARY:Horse and Pony Autumn/Winter League 2023
DESCRIPTION:
URL:https://www.maryvillestables.ie/event/horse-and-pony-autumn-winter-league-2023-6/
LOCATION:Maryville Stables\, Ireland
CATEGORIES:2023,Autumn/Winter
ATTACH;FMTTYPE=image/jpeg:https://www.maryvillestables.ie/uploads/2023/08/original-6DCEE96E-BB47-4395-9940-CE27E93CA03F.jpeg
END:VEVENT
BEGIN:VEVENT
DTSTART;VALUE=DATE:20231021
DTEND;VALUE=DATE:20231022
DTSTAMP:20260422T225956
CREATED:20231013T075538Z
LAST-MODIFIED:20231013T075538Z
UID:10000114-1697846400-1697932799@www.maryvillestables.ie
SUMMARY:Horse and Pony Autumn/Winter League 2023
DESCRIPTION:
URL:https://www.maryvillestables.ie/event/horse-and-pony-autumn-winter-league-2023-7/
LOCATION:Maryville Stables\, Ireland
CATEGORIES:2023,Autumn/Winter
ATTACH;FMTTYPE=image/jpeg:https://www.maryvillestables.ie/uploads/2023/08/original-6DCEE96E-BB47-4395-9940-CE27E93CA03F.jpeg
END:VEVENT
BEGIN:VEVENT
DTSTART;VALUE=DATE:20231028
DTEND;VALUE=DATE:20231029
DTSTAMP:20260422T225956
CREATED:20231013T075654Z
LAST-MODIFIED:20231024T070211Z
UID:10000115-1698451200-1698537599@www.maryvillestables.ie
SUMMARY:Horse and Pony Autumn/Winter League 2023
DESCRIPTION:
URL:https://www.maryvillestables.ie/event/horse-and-pony-autumn-winter-league-2023-8/
LOCATION:Maryville Stables\, Ireland
CATEGORIES:2023,Autumn/Winter
ATTACH;FMTTYPE=application/pdf:https://www.maryvillestables.ie/uploads/2023/10/Halloween-2023-v1.pdf
END:VEVENT
BEGIN:VEVENT
DTSTART;VALUE=DATE:20231104
DTEND;VALUE=DATE:20231105
DTSTAMP:20260422T225956
CREATED:20231020T082430Z
LAST-MODIFIED:20231020T082430Z
UID:10000116-1699056000-1699142399@www.maryvillestables.ie
SUMMARY:Horse and Pony Autumn/Winter League 2023
DESCRIPTION:
URL:https://www.maryvillestables.ie/event/horse-and-pony-autumn-winter-league-2023-9/
LOCATION:Maryville Stables\, Ireland
CATEGORIES:2023,Autumn/Winter
ATTACH;FMTTYPE=image/jpeg:https://www.maryvillestables.ie/uploads/2023/08/original-6DCEE96E-BB47-4395-9940-CE27E93CA03F.jpeg
END:VEVENT
BEGIN:VEVENT
DTSTART;VALUE=DATE:20231111
DTEND;VALUE=DATE:20231112
DTSTAMP:20260422T225956
CREATED:20231020T082538Z
LAST-MODIFIED:20231020T082538Z
UID:10000117-1699660800-1699747199@www.maryvillestables.ie
SUMMARY:Horse and Pony Autumn/Winter League 2023
DESCRIPTION:
URL:https://www.maryvillestables.ie/event/horse-and-pony-autumn-winter-league-2023-10/
LOCATION:Maryville Stables\, Ireland
CATEGORIES:2023,Autumn/Winter
ATTACH;FMTTYPE=image/jpeg:https://www.maryvillestables.ie/uploads/2023/08/original-6DCEE96E-BB47-4395-9940-CE27E93CA03F.jpeg
END:VEVENT
BEGIN:VEVENT
DTSTART;VALUE=DATE:20231118
DTEND;VALUE=DATE:20231119
DTSTAMP:20260422T225956
CREATED:20231020T082702Z
LAST-MODIFIED:20231020T082702Z
UID:10000118-1700265600-1700351999@www.maryvillestables.ie
SUMMARY:Horse and Pony Autumn/Winter League 2023
DESCRIPTION:
URL:https://www.maryvillestables.ie/event/horse-and-pony-autumn-winter-league-2023-11/
LOCATION:Maryville Stables\, Ireland
CATEGORIES:2023,Autumn/Winter
ATTACH;FMTTYPE=image/jpeg:https://www.maryvillestables.ie/uploads/2023/08/original-6DCEE96E-BB47-4395-9940-CE27E93CA03F.jpeg
END:VEVENT
BEGIN:VEVENT
DTSTART;VALUE=DATE:20231125
DTEND;VALUE=DATE:20231126
DTSTAMP:20260422T225956
CREATED:20231110T080025Z
LAST-MODIFIED:20231110T080025Z
UID:10000119-1700870400-1700956799@www.maryvillestables.ie
SUMMARY:Horse and Pony Autumn/Winter League Final 2023
DESCRIPTION:
URL:https://www.maryvillestables.ie/event/horse-and-pony-autumn-winter-league-final-2023/
LOCATION:Maryville Stables\, Ireland
CATEGORIES:2023,Autumn/Winter
ATTACH;FMTTYPE=image/jpeg:https://www.maryvillestables.ie/uploads/2023/08/original-6DCEE96E-BB47-4395-9940-CE27E93CA03F.jpeg
END:VEVENT
BEGIN:VEVENT
DTSTART;VALUE=DATE:20231202
DTEND;VALUE=DATE:20231203
DTSTAMP:20260422T225956
CREATED:20231127T124527Z
LAST-MODIFIED:20231127T124527Z
UID:10000120-1701475200-1701561599@www.maryvillestables.ie
SUMMARY:Maryville Christmas and Charity Show
DESCRIPTION:
URL:https://www.maryvillestables.ie/event/maryville-christmas-and-charity-show/
LOCATION:Maryville Stables\, Ireland
CATEGORIES:2023
ATTACH;FMTTYPE=image/jpeg:https://www.maryvillestables.ie/uploads/2023/11/b32c163e-95b2-4025-8243-9ec467c9ead2.jpg
END:VEVENT
BEGIN:VEVENT
DTSTART;VALUE=DATE:20240107
DTEND;VALUE=DATE:20240108
DTSTAMP:20260422T225956
CREATED:20240101T181106Z
LAST-MODIFIED:20240101T181201Z
UID:10000122-1704585600-1704671999@www.maryvillestables.ie
SUMMARY:2024 Derby Cross League
DESCRIPTION:
URL:https://www.maryvillestables.ie/event/2024-derby-cross-league/
LOCATION:Maryville Stables\, Ireland
CATEGORIES:2024,Spring
ATTACH;FMTTYPE=image/jpeg:https://www.maryvillestables.ie/uploads/2024/01/d5ead9e3-7de0-4b72-8113-0c2c316f89f9.jpg
END:VEVENT
BEGIN:VEVENT
DTSTART;VALUE=DATE:20240114
DTEND;VALUE=DATE:20240115
DTSTAMP:20260422T225956
CREATED:20240101T181336Z
LAST-MODIFIED:20240101T181412Z
UID:10000121-1705190400-1705276799@www.maryvillestables.ie
SUMMARY:2024 Derby Cross League
DESCRIPTION:
URL:https://www.maryvillestables.ie/event/2024-derby-cross-league-2/
LOCATION:Maryville Stables\, Ireland
CATEGORIES:2024,Spring
ATTACH;FMTTYPE=image/jpeg:https://www.maryvillestables.ie/uploads/2024/01/d5ead9e3-7de0-4b72-8113-0c2c316f89f9.jpg
END:VEVENT
BEGIN:VEVENT
DTSTART;VALUE=DATE:20240128
DTEND;VALUE=DATE:20240129
DTSTAMP:20260422T225956
CREATED:20240101T181512Z
LAST-MODIFIED:20240101T181512Z
UID:10000123-1706400000-1706486399@www.maryvillestables.ie
SUMMARY:2024 Derby Cross League
DESCRIPTION:
URL:https://www.maryvillestables.ie/event/2024-derby-cross-league-3/
LOCATION:Maryville Stables\, Ireland
CATEGORIES:2024,Spring
ATTACH;FMTTYPE=image/jpeg:https://www.maryvillestables.ie/uploads/2024/01/d5ead9e3-7de0-4b72-8113-0c2c316f89f9.jpg
END:VEVENT
BEGIN:VEVENT
DTSTART;VALUE=DATE:20240504
DTEND;VALUE=DATE:20240505
DTSTAMP:20260422T225956
CREATED:20240421T132938Z
LAST-MODIFIED:20240425T084047Z
UID:10000125-1714780800-1714867199@www.maryvillestables.ie
SUMMARY:Horse and Pony Spring League 2024
DESCRIPTION:
URL:https://www.maryvillestables.ie/event/horse-and-pony-spring-league-2024/
LOCATION:Maryville Stables\, Ireland
CATEGORIES:2024,Spring
ATTACH;FMTTYPE=image/png:https://www.maryvillestables.ie/uploads/2024/04/Screenshot-2024-01-30-at-21.36.22-1085x1536-1.png
END:VEVENT
BEGIN:VEVENT
DTSTART;VALUE=DATE:20240511
DTEND;VALUE=DATE:20240512
DTSTAMP:20260422T225956
CREATED:20240426T155034Z
LAST-MODIFIED:20240426T155034Z
UID:10000126-1715385600-1715471999@www.maryvillestables.ie
SUMMARY:Horse and Pony Spring League 2024
DESCRIPTION:
URL:https://www.maryvillestables.ie/event/horse-and-pony-spring-league-2024-2/
LOCATION:Maryville Stables\, Ireland
CATEGORIES:2024,Spring
ATTACH;FMTTYPE=image/png:https://www.maryvillestables.ie/uploads/2024/04/Screenshot-2024-01-30-at-21.36.22-1085x1536-1.png
END:VEVENT
BEGIN:VEVENT
DTSTART;VALUE=DATE:20240608
DTEND;VALUE=DATE:20240609
DTSTAMP:20260422T225956
CREATED:20240606T151007Z
LAST-MODIFIED:20240606T152342Z
UID:10000127-1717804800-1717891199@www.maryvillestables.ie
SUMMARY:Horse and Pony Summer League 2024
DESCRIPTION:
URL:https://www.maryvillestables.ie/event/horse-and-pony-summer-league-2024/
LOCATION:Maryville Stables\, Ireland
CATEGORIES:2024,Summer
ATTACH;FMTTYPE=image/jpeg:https://www.maryvillestables.ie/uploads/2024/06/original-E40873AF-4BCD-436F-957E-1D995A3ADB1B.jpeg
END:VEVENT
BEGIN:VEVENT
DTSTART;VALUE=DATE:20240615
DTEND;VALUE=DATE:20240616
DTSTAMP:20260422T225956
CREATED:20240606T152823Z
LAST-MODIFIED:20240606T152823Z
UID:10000128-1718409600-1718495999@www.maryvillestables.ie
SUMMARY:Horse and Pony Summer League 2024
DESCRIPTION:
URL:https://www.maryvillestables.ie/event/horse-and-pony-summer-league-2024-2/
LOCATION:Maryville Stables\, Ireland
CATEGORIES:2024,Summer
ATTACH;FMTTYPE=image/jpeg:https://www.maryvillestables.ie/uploads/2024/06/original-E40873AF-4BCD-436F-957E-1D995A3ADB1B.jpeg
END:VEVENT
BEGIN:VEVENT
DTSTART;VALUE=DATE:20240629
DTEND;VALUE=DATE:20240630
DTSTAMP:20260422T225956
CREATED:20240626T181353Z
LAST-MODIFIED:20240626T181353Z
UID:10000135-1719619200-1719705599@www.maryvillestables.ie
SUMMARY:Horse and Pony Summer League 2024
DESCRIPTION:
URL:https://www.maryvillestables.ie/event/horse-and-pony-summer-league-2024-8/
LOCATION:Maryville Stables\, Ireland
CATEGORIES:2024,Summer
ATTACH;FMTTYPE=image/jpeg:https://www.maryvillestables.ie/uploads/2024/06/original-E40873AF-4BCD-436F-957E-1D995A3ADB1B.jpeg
END:VEVENT
BEGIN:VEVENT
DTSTART;VALUE=DATE:20240705
DTEND;VALUE=DATE:20240708
DTSTAMP:20260422T225956
CREATED:20240614T085633Z
LAST-MODIFIED:20240614T164906Z
UID:10000134-1720137600-1720396799@www.maryvillestables.ie
SUMMARY:Stabling & Hookup - Premier Grand Prix & DAFM Series
DESCRIPTION:
URL:https://www.maryvillestables.ie/event/stabling-hookup-premier-grand-prix-dafm-series/
LOCATION:Maryville Stables\, Ireland
CATEGORIES:2024
ATTACH;FMTTYPE=image/jpeg:https://www.maryvillestables.ie/uploads/2024/06/48593eaa-fd77-4984-97ce-e2177dc3e92f.jpeg
END:VEVENT
BEGIN:VEVENT
DTSTART;VALUE=DATE:20240713
DTEND;VALUE=DATE:20240714
DTSTAMP:20260422T225956
CREATED:20240614T083850Z
LAST-MODIFIED:20240614T083850Z
UID:10000129-1720828800-1720915199@www.maryvillestables.ie
SUMMARY:Horse and Pony Summer League 2024
DESCRIPTION:
URL:https://www.maryvillestables.ie/event/horse-and-pony-summer-league-2024-3/
LOCATION:Maryville Stables\, Ireland
CATEGORIES:2024,Summer
ATTACH;FMTTYPE=image/jpeg:https://www.maryvillestables.ie/uploads/2024/06/original-E40873AF-4BCD-436F-957E-1D995A3ADB1B.jpeg
END:VEVENT
BEGIN:VEVENT
DTSTART;VALUE=DATE:20240720
DTEND;VALUE=DATE:20240721
DTSTAMP:20260422T225956
CREATED:20240614T084058Z
LAST-MODIFIED:20240614T084058Z
UID:10000130-1721433600-1721519999@www.maryvillestables.ie
SUMMARY:Horse and Pony Summer League 2024
DESCRIPTION:
URL:https://www.maryvillestables.ie/event/horse-and-pony-summer-league-2024-4/
LOCATION:Maryville Stables\, Ireland
CATEGORIES:2024,Summer
ATTACH;FMTTYPE=image/jpeg:https://www.maryvillestables.ie/uploads/2024/06/original-E40873AF-4BCD-436F-957E-1D995A3ADB1B.jpeg
END:VEVENT
BEGIN:VEVENT
DTSTART;VALUE=DATE:20240727
DTEND;VALUE=DATE:20240728
DTSTAMP:20260422T225956
CREATED:20240614T084219Z
LAST-MODIFIED:20240614T084219Z
UID:10000131-1722038400-1722124799@www.maryvillestables.ie
SUMMARY:Horse and Pony Summer League 2024
DESCRIPTION:
URL:https://www.maryvillestables.ie/event/horse-and-pony-summer-league-2024-5/
LOCATION:Maryville Stables\, Ireland
CATEGORIES:2024,Summer
ATTACH;FMTTYPE=image/jpeg:https://www.maryvillestables.ie/uploads/2024/06/original-E40873AF-4BCD-436F-957E-1D995A3ADB1B.jpeg
END:VEVENT
BEGIN:VEVENT
DTSTART;VALUE=DATE:20240803
DTEND;VALUE=DATE:20240804
DTSTAMP:20260422T225956
CREATED:20240614T084335Z
LAST-MODIFIED:20240614T084335Z
UID:10000132-1722643200-1722729599@www.maryvillestables.ie
SUMMARY:Horse and Pony Summer League 2024
DESCRIPTION:
URL:https://www.maryvillestables.ie/event/horse-and-pony-summer-league-2024-6/
LOCATION:Maryville Stables\, Ireland
CATEGORIES:2024,Summer
ATTACH;FMTTYPE=image/jpeg:https://www.maryvillestables.ie/uploads/2024/06/original-E40873AF-4BCD-436F-957E-1D995A3ADB1B.jpeg
END:VEVENT
BEGIN:VEVENT
DTSTART;VALUE=DATE:20240810
DTEND;VALUE=DATE:20240811
DTSTAMP:20260422T225956
CREATED:20240614T084516Z
LAST-MODIFIED:20240614T084516Z
UID:10000133-1723248000-1723334399@www.maryvillestables.ie
SUMMARY:Horse and Pony Summer League 2024
DESCRIPTION:
URL:https://www.maryvillestables.ie/event/horse-and-pony-summer-league-2024-7/
LOCATION:Maryville Stables\, Ireland
CATEGORIES:2024,Summer
ATTACH;FMTTYPE=image/jpeg:https://www.maryvillestables.ie/uploads/2024/06/original-E40873AF-4BCD-436F-957E-1D995A3ADB1B.jpeg
END:VEVENT
BEGIN:VEVENT
DTSTART;VALUE=DATE:20240830
DTEND;VALUE=DATE:20240902
DTSTAMP:20260422T225956
CREATED:20240820T104251Z
LAST-MODIFIED:20240830T102126Z
UID:10000136-1724976000-1725235199@www.maryvillestables.ie
SUMMARY:Stabling & Hookup - Amateur Championships
DESCRIPTION:
URL:https://www.maryvillestables.ie/event/stabling-hookup-amateur-championships/
LOCATION:Maryville Stables\, Ireland
CATEGORIES:2024
ATTACH;FMTTYPE=image/jpeg:https://www.maryvillestables.ie/uploads/2024/06/48593eaa-fd77-4984-97ce-e2177dc3e92f.jpeg
END:VEVENT
BEGIN:VEVENT
DTSTART;VALUE=DATE:20240907
DTEND;VALUE=DATE:20240908
DTSTAMP:20260422T225956
CREATED:20240903T090307Z
LAST-MODIFIED:20240903T090709Z
UID:10000138-1725667200-1725753599@www.maryvillestables.ie
SUMMARY:Horse and Pony Autumn League 2024
DESCRIPTION:
URL:https://www.maryvillestables.ie/event/horse-and-pony-autumn-league-2024/
LOCATION:Maryville Stables\, Ireland
CATEGORIES:2024,Summer
ATTACH;FMTTYPE=image/png:https://www.maryvillestables.ie/uploads/2024/09/Screenshot-2024-09-03-at-09.59.45.png
END:VEVENT
BEGIN:VEVENT
DTSTART;VALUE=DATE:20240914
DTEND;VALUE=DATE:20240915
DTSTAMP:20260422T225956
CREATED:20240903T091005Z
LAST-MODIFIED:20240903T091005Z
UID:10000139-1726272000-1726358399@www.maryvillestables.ie
SUMMARY:Horse and Pony Autumn League 2024
DESCRIPTION:
URL:https://www.maryvillestables.ie/event/horse-and-pony-autumn-league-2024-2/
LOCATION:Maryville Stables\, Ireland
CATEGORIES:2024,Summer
ATTACH;FMTTYPE=image/png:https://www.maryvillestables.ie/uploads/2024/09/Screenshot-2024-09-03-at-09.59.45.png
END:VEVENT
BEGIN:VEVENT
DTSTART;VALUE=DATE:20240921
DTEND;VALUE=DATE:20240922
DTSTAMP:20260422T225956
CREATED:20240903T091126Z
LAST-MODIFIED:20240903T091126Z
UID:10000140-1726876800-1726963199@www.maryvillestables.ie
SUMMARY:Horse and Pony Autumn League 2024
DESCRIPTION:
URL:https://www.maryvillestables.ie/event/horse-and-pony-autumn-league-2024-3/
LOCATION:Maryville Stables\, Ireland
CATEGORIES:2024,Summer
ATTACH;FMTTYPE=image/png:https://www.maryvillestables.ie/uploads/2024/09/Screenshot-2024-09-03-at-09.59.45.png
END:VEVENT
BEGIN:VEVENT
DTSTART;VALUE=DATE:20240927
DTEND;VALUE=DATE:20240930
DTSTAMP:20260422T225956
CREATED:20240902T114904Z
LAST-MODIFIED:20240902T115007Z
UID:10000137-1727395200-1727654399@www.maryvillestables.ie
SUMMARY:Stabling & Hookup - National Young Rider Championships
DESCRIPTION:
URL:https://www.maryvillestables.ie/event/stabling-hookup-national-young-rider-championships/
LOCATION:Maryville Stables\, Ireland
CATEGORIES:2024
ATTACH;FMTTYPE=image/jpeg:https://www.maryvillestables.ie/uploads/2024/06/48593eaa-fd77-4984-97ce-e2177dc3e92f.jpeg
END:VEVENT
BEGIN:VEVENT
DTSTART;VALUE=DATE:20241005
DTEND;VALUE=DATE:20241006
DTSTAMP:20260422T225956
CREATED:20241003T211747Z
LAST-MODIFIED:20241003T211747Z
UID:10000142-1728086400-1728172799@www.maryvillestables.ie
SUMMARY:Horse and Pony Autumn League 2024
DESCRIPTION:
URL:https://www.maryvillestables.ie/event/horse-and-pony-autumn-league-2024-4/
LOCATION:Maryville Stables\, Ireland
CATEGORIES:2024,Summer
ATTACH;FMTTYPE=image/png:https://www.maryvillestables.ie/uploads/2024/09/Screenshot-2024-09-03-at-09.59.45.png
END:VEVENT
BEGIN:VEVENT
DTSTART;VALUE=DATE:20241006
DTEND;VALUE=DATE:20241007
DTSTAMP:20260422T225956
CREATED:20240911T194823Z
LAST-MODIFIED:20241004T075014Z
UID:10000141-1728172800-1728259199@www.maryvillestables.ie
SUMMARY:Interschools Showjumping
DESCRIPTION:
URL:https://www.maryvillestables.ie/event/interschools-showjumping-3/
LOCATION:Maryville Stables\, Ireland
CATEGORIES:2024
ATTACH;FMTTYPE=image/png:https://www.maryvillestables.ie/uploads/2024/09/Screenshot-2024-09-11-at-20.47.53.png
END:VEVENT
END:VCALENDAR