BEGIN:VCALENDAR
VERSION:2.0
PRODID:-//Maryville Stables - ECPv6.15.20//NONSGML v1.0//EN
CALSCALE:GREGORIAN
METHOD:PUBLISH
X-WR-CALNAME:Maryville Stables
X-ORIGINAL-URL:https://www.maryvillestables.ie
X-WR-CALDESC:Events for Maryville Stables
REFRESH-INTERVAL;VALUE=DURATION:PT1H
X-Robots-Tag:noindex
X-PUBLISHED-TTL:PT1H
BEGIN:VTIMEZONE
TZID:Europe/Dublin
BEGIN:DAYLIGHT
TZOFFSETFROM:+0000
TZOFFSETTO:+0100
TZNAME:IST
DTSTART:20210328T010000
END:DAYLIGHT
BEGIN:STANDARD
TZOFFSETFROM:+0100
TZOFFSETTO:+0000
TZNAME:GMT
DTSTART:20211031T010000
END:STANDARD
BEGIN:DAYLIGHT
TZOFFSETFROM:+0000
TZOFFSETTO:+0100
TZNAME:IST
DTSTART:20220327T010000
END:DAYLIGHT
BEGIN:STANDARD
TZOFFSETFROM:+0100
TZOFFSETTO:+0000
TZNAME:GMT
DTSTART:20221030T010000
END:STANDARD
BEGIN:DAYLIGHT
TZOFFSETFROM:+0000
TZOFFSETTO:+0100
TZNAME:IST
DTSTART:20230326T010000
END:DAYLIGHT
BEGIN:STANDARD
TZOFFSETFROM:+0100
TZOFFSETTO:+0000
TZNAME:GMT
DTSTART:20231029T010000
END:STANDARD
END:VTIMEZONE
BEGIN:VEVENT
DTSTART;VALUE=DATE:20220606
DTEND;VALUE=DATE:20220607
DTSTAMP:20260425T122144
CREATED:20220516T161714Z
LAST-MODIFIED:20220516T161753Z
UID:10000042-1654473600-1654559999@www.maryvillestables.ie
SUMMARY:Horse and Pony Summer League 2022
DESCRIPTION:
URL:https://www.maryvillestables.ie/event/horse-and-pony-summer-league-2022-2/
LOCATION:Maryville Stables\, Ireland
CATEGORIES:2022,Summer
ATTACH;FMTTYPE=image/png:https://www.maryvillestables.ie/uploads/2022/05/Screenshot-2022-05-16-at-17.06.48.png
END:VEVENT
BEGIN:VEVENT
DTSTART;VALUE=DATE:20220611
DTEND;VALUE=DATE:20220612
DTSTAMP:20260425T122145
CREATED:20220516T162032Z
LAST-MODIFIED:20220516T162149Z
UID:10000043-1654905600-1654991999@www.maryvillestables.ie
SUMMARY:Horse and Pony Summer League 2022
DESCRIPTION:
URL:https://www.maryvillestables.ie/event/horse-and-pony-summer-league-2022-3/
LOCATION:Maryville Stables\, Ireland
CATEGORIES:2022,Summer
ATTACH;FMTTYPE=image/png:https://www.maryvillestables.ie/uploads/2022/05/Screenshot-2022-05-16-at-17.06.48.png
END:VEVENT
BEGIN:VEVENT
DTSTART;VALUE=DATE:20220618
DTEND;VALUE=DATE:20220619
DTSTAMP:20260425T122145
CREATED:20220516T162413Z
LAST-MODIFIED:20220516T162450Z
UID:10000044-1655510400-1655596799@www.maryvillestables.ie
SUMMARY:Horse and Pony Summer League 2022
DESCRIPTION:
URL:https://www.maryvillestables.ie/event/horse-and-pony-summer-league-2022-4/
LOCATION:Maryville Stables\, Ireland
CATEGORIES:2022,Summer
ATTACH;FMTTYPE=image/png:https://www.maryvillestables.ie/uploads/2022/05/Screenshot-2022-05-16-at-17.06.48.png
END:VEVENT
BEGIN:VEVENT
DTSTART;VALUE=DATE:20220625
DTEND;VALUE=DATE:20220626
DTSTAMP:20260425T122145
CREATED:20220610T125524Z
LAST-MODIFIED:20220610T131943Z
UID:10000045-1656115200-1656201599@www.maryvillestables.ie
SUMMARY:Horse and Pony Summer League 2022
DESCRIPTION:
URL:https://www.maryvillestables.ie/event/horse-and-pony-summer-league-2022-5/
LOCATION:Maryville Stables\, Ireland
CATEGORIES:2022,Summer
ATTACH;FMTTYPE=image/png:https://www.maryvillestables.ie/uploads/2022/05/Screenshot-2022-05-16-at-17.06.48.png
END:VEVENT
END:VCALENDAR