BEGIN:VCALENDAR
VERSION:2.0
PRODID:-//Maryville Stables - ECPv6.15.18//NONSGML v1.0//EN
CALSCALE:GREGORIAN
METHOD:PUBLISH
X-WR-CALNAME:Maryville Stables
X-ORIGINAL-URL:https://www.maryvillestables.ie
X-WR-CALDESC:Events for Maryville Stables
REFRESH-INTERVAL;VALUE=DURATION:PT1H
X-Robots-Tag:noindex
X-PUBLISHED-TTL:PT1H
BEGIN:VTIMEZONE
TZID:Europe/Dublin
BEGIN:DAYLIGHT
TZOFFSETFROM:+0000
TZOFFSETTO:+0100
TZNAME:IST
DTSTART:20210328T010000
END:DAYLIGHT
BEGIN:STANDARD
TZOFFSETFROM:+0100
TZOFFSETTO:+0000
TZNAME:GMT
DTSTART:20211031T010000
END:STANDARD
BEGIN:DAYLIGHT
TZOFFSETFROM:+0000
TZOFFSETTO:+0100
TZNAME:IST
DTSTART:20220327T010000
END:DAYLIGHT
BEGIN:STANDARD
TZOFFSETFROM:+0100
TZOFFSETTO:+0000
TZNAME:GMT
DTSTART:20221030T010000
END:STANDARD
BEGIN:DAYLIGHT
TZOFFSETFROM:+0000
TZOFFSETTO:+0100
TZNAME:IST
DTSTART:20230326T010000
END:DAYLIGHT
BEGIN:STANDARD
TZOFFSETFROM:+0100
TZOFFSETTO:+0000
TZNAME:GMT
DTSTART:20231029T010000
END:STANDARD
END:VTIMEZONE
BEGIN:VEVENT
DTSTART;VALUE=DATE:20221008
DTEND;VALUE=DATE:20221009
DTSTAMP:20260423T073125
CREATED:20220905T160540Z
LAST-MODIFIED:20220905T160610Z
UID:10000058-1665187200-1665273599@www.maryvillestables.ie
SUMMARY:Horse and Pony Autumn/Winter League 2022
DESCRIPTION:
URL:https://www.maryvillestables.ie/event/horse-and-pony-autumn-winter-league-2022-4/
LOCATION:Maryville Stables\, Ireland
CATEGORIES:2022,Autumn/Winter
ATTACH;FMTTYPE=image/png:https://www.maryvillestables.ie/uploads/2022/09/Maryville_Autumn22League.png
END:VEVENT
BEGIN:VEVENT
DTSTART;VALUE=DATE:20221015
DTEND;VALUE=DATE:20221016
DTSTAMP:20260423T073125
CREATED:20220923T092151Z
LAST-MODIFIED:20220923T092227Z
UID:10000059-1665792000-1665878399@www.maryvillestables.ie
SUMMARY:Horse and Pony Autumn/Winter League 2022
DESCRIPTION:
URL:https://www.maryvillestables.ie/event/horse-and-pony-autumn-winter-league-2022-5/
LOCATION:Maryville Stables\, Ireland
CATEGORIES:2022,Autumn/Winter
ATTACH;FMTTYPE=image/png:https://www.maryvillestables.ie/uploads/2022/09/Maryville_Autumn22League.png
END:VEVENT
BEGIN:VEVENT
DTSTART;VALUE=DATE:20221022
DTEND;VALUE=DATE:20221023
DTSTAMP:20260423T073125
CREATED:20220923T092405Z
LAST-MODIFIED:20220923T092433Z
UID:10000060-1666396800-1666483199@www.maryvillestables.ie
SUMMARY:Horse and Pony Autumn/Winter League 2022
DESCRIPTION:
URL:https://www.maryvillestables.ie/event/horse-and-pony-autumn-winter-league-2022-6/
LOCATION:Maryville Stables\, Ireland
CATEGORIES:2022,Autumn/Winter
ATTACH;FMTTYPE=image/png:https://www.maryvillestables.ie/uploads/2022/09/Maryville_Autumn22League.png
END:VEVENT
BEGIN:VEVENT
DTSTART;VALUE=DATE:20221029
DTEND;VALUE=DATE:20221030
DTSTAMP:20260423T073125
CREATED:20221007T091803Z
LAST-MODIFIED:20221007T091803Z
UID:10000061-1667001600-1667087999@www.maryvillestables.ie
SUMMARY:Horse and Pony Autumn/Winter League 2022
DESCRIPTION:
URL:https://www.maryvillestables.ie/event/horse-and-pony-autumn-winter-league-2022-7/
LOCATION:Maryville Stables\, Ireland
CATEGORIES:2022,Autumn/Winter
ATTACH;FMTTYPE=image/png:https://www.maryvillestables.ie/uploads/2022/09/Maryville_Autumn22League.png
END:VEVENT
END:VCALENDAR