BEGIN:VCALENDAR
VERSION:2.0
PRODID:-//Maryville Stables - ECPv6.15.18//NONSGML v1.0//EN
CALSCALE:GREGORIAN
METHOD:PUBLISH
X-ORIGINAL-URL:https://www.maryvillestables.ie
X-WR-CALDESC:Events for Maryville Stables
REFRESH-INTERVAL;VALUE=DURATION:PT1H
X-Robots-Tag:noindex
X-PUBLISHED-TTL:PT1H
BEGIN:VTIMEZONE
TZID:Europe/Dublin
BEGIN:DAYLIGHT
TZOFFSETFROM:+0000
TZOFFSETTO:+0100
TZNAME:IST
DTSTART:20210328T010000
END:DAYLIGHT
BEGIN:STANDARD
TZOFFSETFROM:+0100
TZOFFSETTO:+0000
TZNAME:GMT
DTSTART:20211031T010000
END:STANDARD
BEGIN:DAYLIGHT
TZOFFSETFROM:+0000
TZOFFSETTO:+0100
TZNAME:IST
DTSTART:20220327T010000
END:DAYLIGHT
BEGIN:STANDARD
TZOFFSETFROM:+0100
TZOFFSETTO:+0000
TZNAME:GMT
DTSTART:20221030T010000
END:STANDARD
BEGIN:DAYLIGHT
TZOFFSETFROM:+0000
TZOFFSETTO:+0100
TZNAME:IST
DTSTART:20230326T010000
END:DAYLIGHT
BEGIN:STANDARD
TZOFFSETFROM:+0100
TZOFFSETTO:+0000
TZNAME:GMT
DTSTART:20231029T010000
END:STANDARD
END:VTIMEZONE
BEGIN:VEVENT
DTSTART;VALUE=DATE:20221105
DTEND;VALUE=DATE:20221106
DTSTAMP:20260423T063130
CREATED:20221014T073445Z
LAST-MODIFIED:20221014T073445Z
UID:10000062-1667606400-1667692799@www.maryvillestables.ie
SUMMARY:Horse and Pony Autumn/Winter League 2022
DESCRIPTION:
URL:https://www.maryvillestables.ie/event/horse-and-pony-autumn-winter-league-2022-8/
LOCATION:Maryville Stables\, Ireland
CATEGORIES:2022,Autumn/Winter
ATTACH;FMTTYPE=image/png:https://www.maryvillestables.ie/uploads/2022/09/Maryville_Autumn22League.png
END:VEVENT
BEGIN:VEVENT
DTSTART;VALUE=DATE:20221112
DTEND;VALUE=DATE:20221113
DTSTAMP:20260423T063130
CREATED:20221021T074532Z
LAST-MODIFIED:20221021T074532Z
UID:10000063-1668211200-1668297599@www.maryvillestables.ie
SUMMARY:Horse and Pony Autumn/Winter League 2022
DESCRIPTION:
URL:https://www.maryvillestables.ie/event/horse-and-pony-autumn-winter-league-2022-9/
LOCATION:Maryville Stables\, Ireland
CATEGORIES:2022,Autumn/Winter
ATTACH;FMTTYPE=image/png:https://www.maryvillestables.ie/uploads/2022/09/Maryville_Autumn22League.png
END:VEVENT
BEGIN:VEVENT
DTSTART;VALUE=DATE:20221120
DTEND;VALUE=DATE:20221121
DTSTAMP:20260423T063130
CREATED:20221021T095715Z
LAST-MODIFIED:20221115T181019Z
UID:10000064-1668902400-1668988799@www.maryvillestables.ie
SUMMARY:Horse and Pony Autumn/Winter League 2022
DESCRIPTION:
URL:https://www.maryvillestables.ie/event/horse-and-pony-autumn-winter-league-2022-10/
LOCATION:Maryville Stables\, Ireland
CATEGORIES:2022,Autumn/Winter
ATTACH;FMTTYPE=image/png:https://www.maryvillestables.ie/uploads/2022/09/Maryville_Autumn22League.png
END:VEVENT
BEGIN:VEVENT
DTSTART;VALUE=DATE:20221126
DTEND;VALUE=DATE:20221127
DTSTAMP:20260423T063130
CREATED:20221118T165721Z
LAST-MODIFIED:20221118T165721Z
UID:10000065-1669420800-1669507199@www.maryvillestables.ie
SUMMARY:Horse and Pony Autumn/Winter League 2022
DESCRIPTION:
URL:https://www.maryvillestables.ie/event/horse-and-pony-autumn-winter-league-2022-11/
LOCATION:Maryville Stables\, Ireland
CATEGORIES:2022,Autumn/Winter
ATTACH;FMTTYPE=image/png:https://www.maryvillestables.ie/uploads/2022/09/Maryville_Autumn22League.png
END:VEVENT
END:VCALENDAR