BEGIN:VCALENDAR
VERSION:2.0
PRODID:-//Maryville Stables - ECPv6.15.18//NONSGML v1.0//EN
CALSCALE:GREGORIAN
METHOD:PUBLISH
X-WR-CALNAME:Maryville Stables
X-ORIGINAL-URL:https://www.maryvillestables.ie
X-WR-CALDESC:Events for Maryville Stables
REFRESH-INTERVAL;VALUE=DURATION:PT1H
X-Robots-Tag:noindex
X-PUBLISHED-TTL:PT1H
BEGIN:VTIMEZONE
TZID:Europe/Dublin
BEGIN:DAYLIGHT
TZOFFSETFROM:+0000
TZOFFSETTO:+0100
TZNAME:IST
DTSTART:20220327T010000
END:DAYLIGHT
BEGIN:STANDARD
TZOFFSETFROM:+0100
TZOFFSETTO:+0000
TZNAME:GMT
DTSTART:20221030T010000
END:STANDARD
BEGIN:DAYLIGHT
TZOFFSETFROM:+0000
TZOFFSETTO:+0100
TZNAME:IST
DTSTART:20230326T010000
END:DAYLIGHT
BEGIN:STANDARD
TZOFFSETFROM:+0100
TZOFFSETTO:+0000
TZNAME:GMT
DTSTART:20231029T010000
END:STANDARD
BEGIN:DAYLIGHT
TZOFFSETFROM:+0000
TZOFFSETTO:+0100
TZNAME:IST
DTSTART:20240331T010000
END:DAYLIGHT
BEGIN:STANDARD
TZOFFSETFROM:+0100
TZOFFSETTO:+0000
TZNAME:GMT
DTSTART:20241027T010000
END:STANDARD
END:VTIMEZONE
BEGIN:VEVENT
DTSTART;VALUE=DATE:20230108
DTEND;VALUE=DATE:20230109
DTSTAMP:20260423T041117
CREATED:20230101T121719Z
LAST-MODIFIED:20230101T123253Z
UID:10000067-1673136000-1673222399@www.maryvillestables.ie
SUMMARY:2023 Spring Derby Cross League
DESCRIPTION:
URL:https://www.maryvillestables.ie/event/2023-spring-derby-cross-league/
LOCATION:Maryville Stables\, Ireland
CATEGORIES:2023
ATTACH;FMTTYPE=image/png:https://www.maryvillestables.ie/uploads/2023/01/Screenshot-2023-01-01-at-12.16.55.png
END:VEVENT
BEGIN:VEVENT
DTSTART;VALUE=DATE:20230115
DTEND;VALUE=DATE:20230116
DTSTAMP:20260423T041117
CREATED:20230101T122413Z
LAST-MODIFIED:20230101T123327Z
UID:10000068-1673740800-1673827199@www.maryvillestables.ie
SUMMARY:2023 Spring Derby Cross League
DESCRIPTION:
URL:https://www.maryvillestables.ie/event/2023-spring-derby-cross-league-2/
LOCATION:Maryville Stables\, Ireland
CATEGORIES:2023
ATTACH;FMTTYPE=image/png:https://www.maryvillestables.ie/uploads/2023/01/Screenshot-2023-01-01-at-12.16.55.png
END:VEVENT
BEGIN:VEVENT
DTSTART;VALUE=DATE:20230122
DTEND;VALUE=DATE:20230123
DTSTAMP:20260423T041117
CREATED:20230101T122817Z
LAST-MODIFIED:20230101T123421Z
UID:10000069-1674345600-1674431999@www.maryvillestables.ie
SUMMARY:2023 Spring Derby Cross League
DESCRIPTION:
URL:https://www.maryvillestables.ie/event/2023-spring-derby-cross-league-3/
LOCATION:Maryville Stables\, Ireland
CATEGORIES:2023
ATTACH;FMTTYPE=image/png:https://www.maryvillestables.ie/uploads/2023/01/Screenshot-2023-01-01-at-12.16.55.png
END:VEVENT
BEGIN:VEVENT
DTSTART;VALUE=DATE:20230129
DTEND;VALUE=DATE:20230130
DTSTAMP:20260423T041117
CREATED:20230101T123056Z
LAST-MODIFIED:20230101T123514Z
UID:10000070-1674950400-1675036799@www.maryvillestables.ie
SUMMARY:2023 Spring Derby Cross League
DESCRIPTION:
URL:https://www.maryvillestables.ie/event/2023-spring-derby-cross-league-4/
LOCATION:Maryville Stables\, Ireland
CATEGORIES:2023
ATTACH;FMTTYPE=image/png:https://www.maryvillestables.ie/uploads/2023/01/Screenshot-2023-01-01-at-12.16.55.png
END:VEVENT
END:VCALENDAR