BEGIN:VCALENDAR
VERSION:2.0
PRODID:-//Maryville Stables - ECPv6.15.18//NONSGML v1.0//EN
CALSCALE:GREGORIAN
METHOD:PUBLISH
X-ORIGINAL-URL:https://www.maryvillestables.ie
X-WR-CALDESC:Events for Maryville Stables
REFRESH-INTERVAL;VALUE=DURATION:PT1H
X-Robots-Tag:noindex
X-PUBLISHED-TTL:PT1H
BEGIN:VTIMEZONE
TZID:Europe/Dublin
BEGIN:DAYLIGHT
TZOFFSETFROM:+0000
TZOFFSETTO:+0100
TZNAME:IST
DTSTART:20220327T010000
END:DAYLIGHT
BEGIN:STANDARD
TZOFFSETFROM:+0100
TZOFFSETTO:+0000
TZNAME:GMT
DTSTART:20221030T010000
END:STANDARD
BEGIN:DAYLIGHT
TZOFFSETFROM:+0000
TZOFFSETTO:+0100
TZNAME:IST
DTSTART:20230326T010000
END:DAYLIGHT
BEGIN:STANDARD
TZOFFSETFROM:+0100
TZOFFSETTO:+0000
TZNAME:GMT
DTSTART:20231029T010000
END:STANDARD
BEGIN:DAYLIGHT
TZOFFSETFROM:+0000
TZOFFSETTO:+0100
TZNAME:IST
DTSTART:20240331T010000
END:DAYLIGHT
BEGIN:STANDARD
TZOFFSETFROM:+0100
TZOFFSETTO:+0000
TZNAME:GMT
DTSTART:20241027T010000
END:STANDARD
END:VTIMEZONE
BEGIN:VEVENT
DTSTART;VALUE=DATE:20230201
DTEND;VALUE=DATE:20230202
DTSTAMP:20260423T030308
CREATED:20230119T131440Z
LAST-MODIFIED:20230119T131919Z
UID:10000071-1675209600-1675295999@www.maryvillestables.ie
SUMMARY:Maryville Wednesday Horse League
DESCRIPTION:
URL:https://www.maryvillestables.ie/event/maryville-wednesday-horse-league/
LOCATION:Maryville Stables\, Ireland
CATEGORIES:2023
ATTACH;FMTTYPE=image/png:https://www.maryvillestables.ie/uploads/2023/01/Screenshot-2023-01-19-at-13.13.18.png
END:VEVENT
BEGIN:VEVENT
DTSTART;VALUE=DATE:20230208
DTEND;VALUE=DATE:20230209
DTSTAMP:20260423T030308
CREATED:20230119T131848Z
LAST-MODIFIED:20230119T131848Z
UID:10000072-1675814400-1675900799@www.maryvillestables.ie
SUMMARY:Maryville Wednesday Horse League
DESCRIPTION:
URL:https://www.maryvillestables.ie/event/maryville-wednesday-horse-league-2/
LOCATION:Maryville Stables\, Ireland
CATEGORIES:2023
ATTACH;FMTTYPE=image/png:https://www.maryvillestables.ie/uploads/2023/01/Screenshot-2023-01-19-at-13.13.18.png
END:VEVENT
BEGIN:VEVENT
DTSTART;VALUE=DATE:20230211
DTEND;VALUE=DATE:20230212
DTSTAMP:20260423T030308
CREATED:20230119T133033Z
LAST-MODIFIED:20230119T133033Z
UID:10000079-1676073600-1676159999@www.maryvillestables.ie
SUMMARY:Horse and Pony Spring League 2023
DESCRIPTION:
URL:https://www.maryvillestables.ie/event/horse-and-pony-spring-league-2023/
LOCATION:Maryville Stables\, Ireland
CATEGORIES:2023,Spring
ATTACH;FMTTYPE=image/png:https://www.maryvillestables.ie/uploads/2023/01/Screenshot-2023-01-19-at-13.29.14.png
END:VEVENT
BEGIN:VEVENT
DTSTART;VALUE=DATE:20230215
DTEND;VALUE=DATE:20230216
DTSTAMP:20260423T030308
CREATED:20230119T132014Z
LAST-MODIFIED:20230119T132014Z
UID:10000073-1676419200-1676505599@www.maryvillestables.ie
SUMMARY:Maryville Wednesday Horse League
DESCRIPTION:
URL:https://www.maryvillestables.ie/event/maryville-wednesday-horse-league-3/
LOCATION:Maryville Stables\, Ireland
CATEGORIES:2023
ATTACH;FMTTYPE=image/png:https://www.maryvillestables.ie/uploads/2023/01/Screenshot-2023-01-19-at-13.13.18.png
END:VEVENT
BEGIN:VEVENT
DTSTART;VALUE=DATE:20230218
DTEND;VALUE=DATE:20230219
DTSTAMP:20260423T030308
CREATED:20230119T155401Z
LAST-MODIFIED:20230119T155401Z
UID:10000080-1676678400-1676764799@www.maryvillestables.ie
SUMMARY:Horse and Pony Spring League 2023
DESCRIPTION:
URL:https://www.maryvillestables.ie/event/horse-and-pony-spring-league-2023-2/
LOCATION:Maryville Stables\, Ireland
CATEGORIES:2023,Spring
ATTACH;FMTTYPE=image/png:https://www.maryvillestables.ie/uploads/2023/01/Screenshot-2023-01-19-at-13.29.14.png
END:VEVENT
BEGIN:VEVENT
DTSTART;VALUE=DATE:20230222
DTEND;VALUE=DATE:20230223
DTSTAMP:20260423T030308
CREATED:20230119T132111Z
LAST-MODIFIED:20230119T132111Z
UID:10000074-1677024000-1677110399@www.maryvillestables.ie
SUMMARY:Maryville Wednesday Horse League
DESCRIPTION:
URL:https://www.maryvillestables.ie/event/maryville-wednesday-horse-league-4/
LOCATION:Maryville Stables\, Ireland
CATEGORIES:2023
ATTACH;FMTTYPE=image/png:https://www.maryvillestables.ie/uploads/2023/01/Screenshot-2023-01-19-at-13.13.18.png
END:VEVENT
BEGIN:VEVENT
DTSTART;VALUE=DATE:20230225
DTEND;VALUE=DATE:20230226
DTSTAMP:20260423T030308
CREATED:20230119T155521Z
LAST-MODIFIED:20230119T155521Z
UID:10000081-1677283200-1677369599@www.maryvillestables.ie
SUMMARY:Horse and Pony Spring League 2023
DESCRIPTION:
URL:https://www.maryvillestables.ie/event/horse-and-pony-spring-league-2023-3/
LOCATION:Maryville Stables\, Ireland
CATEGORIES:2023,Spring
ATTACH;FMTTYPE=image/png:https://www.maryvillestables.ie/uploads/2023/01/Screenshot-2023-01-19-at-13.29.14.png
END:VEVENT
END:VCALENDAR