BEGIN:VCALENDAR
VERSION:2.0
PRODID:-//Maryville Stables - ECPv6.15.18//NONSGML v1.0//EN
CALSCALE:GREGORIAN
METHOD:PUBLISH
X-ORIGINAL-URL:https://www.maryvillestables.ie
X-WR-CALDESC:Events for Maryville Stables
REFRESH-INTERVAL;VALUE=DURATION:PT1H
X-Robots-Tag:noindex
X-PUBLISHED-TTL:PT1H
BEGIN:VTIMEZONE
TZID:Europe/Dublin
BEGIN:DAYLIGHT
TZOFFSETFROM:+0000
TZOFFSETTO:+0100
TZNAME:IST
DTSTART:20220327T010000
END:DAYLIGHT
BEGIN:STANDARD
TZOFFSETFROM:+0100
TZOFFSETTO:+0000
TZNAME:GMT
DTSTART:20221030T010000
END:STANDARD
BEGIN:DAYLIGHT
TZOFFSETFROM:+0000
TZOFFSETTO:+0100
TZNAME:IST
DTSTART:20230326T010000
END:DAYLIGHT
BEGIN:STANDARD
TZOFFSETFROM:+0100
TZOFFSETTO:+0000
TZNAME:GMT
DTSTART:20231029T010000
END:STANDARD
BEGIN:DAYLIGHT
TZOFFSETFROM:+0000
TZOFFSETTO:+0100
TZNAME:IST
DTSTART:20240331T010000
END:DAYLIGHT
BEGIN:STANDARD
TZOFFSETFROM:+0100
TZOFFSETTO:+0000
TZNAME:GMT
DTSTART:20241027T010000
END:STANDARD
END:VTIMEZONE
BEGIN:VEVENT
DTSTART;VALUE=DATE:20230301
DTEND;VALUE=DATE:20230302
DTSTAMP:20260423T014507
CREATED:20230119T132212Z
LAST-MODIFIED:20230119T132212Z
UID:10000075-1677628800-1677715199@www.maryvillestables.ie
SUMMARY:Maryville Wednesday Horse League
DESCRIPTION:
URL:https://www.maryvillestables.ie/event/maryville-wednesday-horse-league-5/
LOCATION:Maryville Stables\, Ireland
CATEGORIES:2023
ATTACH;FMTTYPE=image/png:https://www.maryvillestables.ie/uploads/2023/01/Screenshot-2023-01-19-at-13.13.18.png
END:VEVENT
BEGIN:VEVENT
DTSTART;VALUE=DATE:20230304
DTEND;VALUE=DATE:20230305
DTSTAMP:20260423T014507
CREATED:20230217T092709Z
LAST-MODIFIED:20230217T092709Z
UID:10000082-1677888000-1677974399@www.maryvillestables.ie
SUMMARY:Horse and Pony Spring League 2023
DESCRIPTION:
URL:https://www.maryvillestables.ie/event/horse-and-pony-spring-league-2023-4/
LOCATION:Maryville Stables\, Ireland
CATEGORIES:2023,Spring
ATTACH;FMTTYPE=image/png:https://www.maryvillestables.ie/uploads/2023/01/Screenshot-2023-01-19-at-13.29.14.png
END:VEVENT
BEGIN:VEVENT
DTSTART;VALUE=DATE:20230311
DTEND;VALUE=DATE:20230312
DTSTAMP:20260423T014507
CREATED:20230217T092912Z
LAST-MODIFIED:20230217T092912Z
UID:10000083-1678492800-1678579199@www.maryvillestables.ie
SUMMARY:Horse and Pony Spring League 2023
DESCRIPTION:
URL:https://www.maryvillestables.ie/event/horse-and-pony-spring-league-2023-5/
LOCATION:Maryville Stables\, Ireland
CATEGORIES:2023,Spring
ATTACH;FMTTYPE=image/png:https://www.maryvillestables.ie/uploads/2023/01/Screenshot-2023-01-19-at-13.29.14.png
END:VEVENT
BEGIN:VEVENT
DTSTART;VALUE=DATE:20230315
DTEND;VALUE=DATE:20230316
DTSTAMP:20260423T014507
CREATED:20230119T132324Z
LAST-MODIFIED:20230217T093351Z
UID:10000076-1678838400-1678924799@www.maryvillestables.ie
SUMMARY:Maryville Wednesday Horse League
DESCRIPTION:
URL:https://www.maryvillestables.ie/event/maryville-wednesday-horse-league-6/
LOCATION:Maryville Stables\, Ireland
CATEGORIES:2023
ATTACH;FMTTYPE=image/png:https://www.maryvillestables.ie/uploads/2023/01/Screenshot-2023-01-19-at-13.13.18.png
END:VEVENT
BEGIN:VEVENT
DTSTART;VALUE=DATE:20230318
DTEND;VALUE=DATE:20230319
DTSTAMP:20260423T014507
CREATED:20230217T093038Z
LAST-MODIFIED:20230217T093038Z
UID:10000084-1679097600-1679183999@www.maryvillestables.ie
SUMMARY:Horse and Pony Spring League 2023
DESCRIPTION:
URL:https://www.maryvillestables.ie/event/horse-and-pony-spring-league-2023-6/
LOCATION:Maryville Stables\, Ireland
CATEGORIES:2023,Spring
ATTACH;FMTTYPE=image/png:https://www.maryvillestables.ie/uploads/2023/01/Screenshot-2023-01-19-at-13.29.14.png
END:VEVENT
BEGIN:VEVENT
DTSTART;VALUE=DATE:20230322
DTEND;VALUE=DATE:20230323
DTSTAMP:20260423T014507
CREATED:20230119T132452Z
LAST-MODIFIED:20230119T132452Z
UID:10000077-1679443200-1679529599@www.maryvillestables.ie
SUMMARY:Maryville Wednesday Horse League
DESCRIPTION:
URL:https://www.maryvillestables.ie/event/maryville-wednesday-horse-league-7/
LOCATION:Maryville Stables\, Ireland
CATEGORIES:2023
ATTACH;FMTTYPE=image/png:https://www.maryvillestables.ie/uploads/2023/01/Screenshot-2023-01-19-at-13.13.18.png
END:VEVENT
BEGIN:VEVENT
DTSTART;VALUE=DATE:20230325
DTEND;VALUE=DATE:20230326
DTSTAMP:20260423T014507
CREATED:20230303T100238Z
LAST-MODIFIED:20230303T100238Z
UID:10000087-1679702400-1679788799@www.maryvillestables.ie
SUMMARY:Horse and Pony Spring League 2023
DESCRIPTION:
URL:https://www.maryvillestables.ie/event/horse-and-pony-spring-league-2023-7/
LOCATION:Maryville Stables\, Ireland
CATEGORIES:2023,Spring
ATTACH;FMTTYPE=image/png:https://www.maryvillestables.ie/uploads/2023/01/Screenshot-2023-01-19-at-13.29.14.png
END:VEVENT
BEGIN:VEVENT
DTSTART;VALUE=DATE:20230329
DTEND;VALUE=DATE:20230330
DTSTAMP:20260423T014507
CREATED:20230119T132542Z
LAST-MODIFIED:20230119T132542Z
UID:10000078-1680048000-1680134399@www.maryvillestables.ie
SUMMARY:Maryville Wednesday Horse League
DESCRIPTION:
URL:https://www.maryvillestables.ie/event/maryville-wednesday-horse-league-8/
LOCATION:Maryville Stables\, Ireland
CATEGORIES:2023
ATTACH;FMTTYPE=image/png:https://www.maryvillestables.ie/uploads/2023/01/Screenshot-2023-01-19-at-13.13.18.png
END:VEVENT
END:VCALENDAR