BEGIN:VCALENDAR
VERSION:2.0
PRODID:-//Maryville Stables - ECPv6.15.18//NONSGML v1.0//EN
CALSCALE:GREGORIAN
METHOD:PUBLISH
X-ORIGINAL-URL:https://www.maryvillestables.ie
X-WR-CALDESC:Events for Maryville Stables
REFRESH-INTERVAL;VALUE=DURATION:PT1H
X-Robots-Tag:noindex
X-PUBLISHED-TTL:PT1H
BEGIN:VTIMEZONE
TZID:Europe/Dublin
BEGIN:DAYLIGHT
TZOFFSETFROM:+0000
TZOFFSETTO:+0100
TZNAME:IST
DTSTART:20220327T010000
END:DAYLIGHT
BEGIN:STANDARD
TZOFFSETFROM:+0100
TZOFFSETTO:+0000
TZNAME:GMT
DTSTART:20221030T010000
END:STANDARD
BEGIN:DAYLIGHT
TZOFFSETFROM:+0000
TZOFFSETTO:+0100
TZNAME:IST
DTSTART:20230326T010000
END:DAYLIGHT
BEGIN:STANDARD
TZOFFSETFROM:+0100
TZOFFSETTO:+0000
TZNAME:GMT
DTSTART:20231029T010000
END:STANDARD
BEGIN:DAYLIGHT
TZOFFSETFROM:+0000
TZOFFSETTO:+0100
TZNAME:IST
DTSTART:20240331T010000
END:DAYLIGHT
BEGIN:STANDARD
TZOFFSETFROM:+0100
TZOFFSETTO:+0000
TZNAME:GMT
DTSTART:20241027T010000
END:STANDARD
END:VTIMEZONE
BEGIN:VEVENT
DTSTART;VALUE=DATE:20230401
DTEND;VALUE=DATE:20230402
DTSTAMP:20260423T001607
CREATED:20230303T100433Z
LAST-MODIFIED:20230303T100433Z
UID:10000088-1680307200-1680393599@www.maryvillestables.ie
SUMMARY:Horse and Pony Spring League 2023
DESCRIPTION:
URL:https://www.maryvillestables.ie/event/horse-and-pony-spring-league-2023-8/
LOCATION:Maryville Stables\, Ireland
CATEGORIES:2023,Spring
ATTACH;FMTTYPE=image/png:https://www.maryvillestables.ie/uploads/2023/01/Screenshot-2023-01-19-at-13.29.14.png
END:VEVENT
BEGIN:VEVENT
DTSTART;VALUE=DATE:20230401
DTEND;VALUE=DATE:20230403
DTSTAMP:20260423T001607
CREATED:20230303T095848Z
LAST-MODIFIED:20230303T095848Z
UID:10000085-1680307200-1680479999@www.maryvillestables.ie
SUMMARY:Pony Spring Tour - Stabling
DESCRIPTION:
URL:https://www.maryvillestables.ie/event/pony-spring-tour-stabling/
LOCATION:Maryville Stables\, Ireland
CATEGORIES:2023
ATTACH;FMTTYPE=image/jpeg:https://www.maryvillestables.ie/uploads/Maryville15.jpg
END:VEVENT
BEGIN:VEVENT
DTSTART;VALUE=DATE:20230408
DTEND;VALUE=DATE:20230409
DTSTAMP:20260423T001607
CREATED:20230324T093215Z
LAST-MODIFIED:20230324T093215Z
UID:10000089-1680912000-1680998399@www.maryvillestables.ie
SUMMARY:Horse and Pony Spring League 2023
DESCRIPTION:
URL:https://www.maryvillestables.ie/event/horse-and-pony-spring-league-2023-9/
LOCATION:Maryville Stables\, Ireland
CATEGORIES:2023,Spring
ATTACH;FMTTYPE=image/png:https://www.maryvillestables.ie/uploads/2023/01/Screenshot-2023-01-19-at-13.29.14.png
END:VEVENT
BEGIN:VEVENT
DTSTART;VALUE=DATE:20230415
DTEND;VALUE=DATE:20230416
DTSTAMP:20260423T001607
CREATED:20230324T093405Z
LAST-MODIFIED:20230324T093405Z
UID:10000090-1681516800-1681603199@www.maryvillestables.ie
SUMMARY:Horse and Pony Spring League 2023
DESCRIPTION:
URL:https://www.maryvillestables.ie/event/horse-and-pony-spring-league-2023-10/
LOCATION:Maryville Stables\, Ireland
CATEGORIES:2023,Spring
ATTACH;FMTTYPE=image/png:https://www.maryvillestables.ie/uploads/2023/01/Screenshot-2023-01-19-at-13.29.14.png
END:VEVENT
BEGIN:VEVENT
DTSTART;VALUE=DATE:20230422
DTEND;VALUE=DATE:20230423
DTSTAMP:20260423T001607
CREATED:20230324T093525Z
LAST-MODIFIED:20230324T093525Z
UID:10000091-1682121600-1682207999@www.maryvillestables.ie
SUMMARY:Horse and Pony Spring League Final 2023
DESCRIPTION:
URL:https://www.maryvillestables.ie/event/horse-and-pony-spring-league-final-2023/
LOCATION:Maryville Stables\, Ireland
CATEGORIES:2023,Spring
ATTACH;FMTTYPE=image/png:https://www.maryvillestables.ie/uploads/2023/01/Screenshot-2023-01-19-at-13.29.14.png
END:VEVENT
END:VCALENDAR