BEGIN:VCALENDAR
VERSION:2.0
PRODID:-//Maryville Stables - ECPv6.15.18//NONSGML v1.0//EN
CALSCALE:GREGORIAN
METHOD:PUBLISH
X-ORIGINAL-URL:https://www.maryvillestables.ie
X-WR-CALDESC:Events for Maryville Stables
REFRESH-INTERVAL;VALUE=DURATION:PT1H
X-Robots-Tag:noindex
X-PUBLISHED-TTL:PT1H
BEGIN:VTIMEZONE
TZID:Europe/Dublin
BEGIN:DAYLIGHT
TZOFFSETFROM:+0000
TZOFFSETTO:+0100
TZNAME:IST
DTSTART:20220327T010000
END:DAYLIGHT
BEGIN:STANDARD
TZOFFSETFROM:+0100
TZOFFSETTO:+0000
TZNAME:GMT
DTSTART:20221030T010000
END:STANDARD
BEGIN:DAYLIGHT
TZOFFSETFROM:+0000
TZOFFSETTO:+0100
TZNAME:IST
DTSTART:20230326T010000
END:DAYLIGHT
BEGIN:STANDARD
TZOFFSETFROM:+0100
TZOFFSETTO:+0000
TZNAME:GMT
DTSTART:20231029T010000
END:STANDARD
BEGIN:DAYLIGHT
TZOFFSETFROM:+0000
TZOFFSETTO:+0100
TZNAME:IST
DTSTART:20240331T010000
END:DAYLIGHT
BEGIN:STANDARD
TZOFFSETFROM:+0100
TZOFFSETTO:+0000
TZNAME:GMT
DTSTART:20241027T010000
END:STANDARD
END:VTIMEZONE
BEGIN:VEVENT
DTSTART;VALUE=DATE:20230506
DTEND;VALUE=DATE:20230507
DTSTAMP:20260422T225552
CREATED:20230503T093033Z
LAST-MODIFIED:20230503T093224Z
UID:10000093-1683331200-1683417599@www.maryvillestables.ie
SUMMARY:Horse and Pony Summer League 2023
DESCRIPTION:
URL:https://www.maryvillestables.ie/event/horse-and-pony-summer-league-2023/
LOCATION:Maryville Stables\, Ireland
CATEGORIES:2023,Summer
ATTACH;FMTTYPE=image/png:https://www.maryvillestables.ie/uploads/2023/05/Screenshot-2023-05-03-at-10.27.19.png
END:VEVENT
BEGIN:VEVENT
DTSTART;VALUE=DATE:20230507
DTEND;VALUE=DATE:20230508
DTSTAMP:20260422T225552
CREATED:20230417T084219Z
LAST-MODIFIED:20230417T084351Z
UID:10000092-1683417600-1683503999@www.maryvillestables.ie
SUMMARY:Interschools Showjumping
DESCRIPTION:
URL:https://www.maryvillestables.ie/event/interschools-showjumping/
LOCATION:Maryville Stables\, Ireland
CATEGORIES:2023
ATTACH;FMTTYPE=image/png:https://www.maryvillestables.ie/uploads/2023/04/Screenshot-2023-04-17-at-09.33.39.png
END:VEVENT
BEGIN:VEVENT
DTSTART;VALUE=DATE:20230513
DTEND;VALUE=DATE:20230514
DTSTAMP:20260422T225552
CREATED:20230510T144655Z
LAST-MODIFIED:20230510T144909Z
UID:10000094-1683936000-1684022399@www.maryvillestables.ie
SUMMARY:Horse and Pony Summer League 2023
DESCRIPTION:
URL:https://www.maryvillestables.ie/event/horse-and-pony-summer-league-2023-2/
LOCATION:Maryville Stables\, Ireland
CATEGORIES:2023,Summer
ATTACH;FMTTYPE=image/png:https://www.maryvillestables.ie/uploads/2023/05/Screenshot-2023-05-03-at-10.27.19.png
END:VEVENT
BEGIN:VEVENT
DTSTART;VALUE=DATE:20230520
DTEND;VALUE=DATE:20230521
DTSTAMP:20260422T225552
CREATED:20230510T145130Z
LAST-MODIFIED:20230510T145130Z
UID:10000095-1684540800-1684627199@www.maryvillestables.ie
SUMMARY:Horse and Pony Summer League 2023
DESCRIPTION:
URL:https://www.maryvillestables.ie/event/horse-and-pony-summer-league-2023-3/
LOCATION:Maryville Stables\, Ireland
CATEGORIES:2023,Summer
ATTACH;FMTTYPE=image/png:https://www.maryvillestables.ie/uploads/2023/05/Screenshot-2023-05-03-at-10.27.19.png
END:VEVENT
BEGIN:VEVENT
DTSTART;VALUE=DATE:20230527
DTEND;VALUE=DATE:20230528
DTSTAMP:20260422T225552
CREATED:20230511T085902Z
LAST-MODIFIED:20230511T085902Z
UID:10000096-1685145600-1685231999@www.maryvillestables.ie
SUMMARY:Horse and Pony Summer League 2023
DESCRIPTION:
URL:https://www.maryvillestables.ie/event/horse-and-pony-summer-league-2023-4/
LOCATION:Maryville Stables\, Ireland
CATEGORIES:2023,Summer
ATTACH;FMTTYPE=image/png:https://www.maryvillestables.ie/uploads/2023/05/Screenshot-2023-05-03-at-10.27.19.png
END:VEVENT
END:VCALENDAR