BEGIN:VCALENDAR
VERSION:2.0
PRODID:-//Maryville Stables - ECPv6.15.18//NONSGML v1.0//EN
CALSCALE:GREGORIAN
METHOD:PUBLISH
X-WR-CALNAME:Maryville Stables
X-ORIGINAL-URL:https://www.maryvillestables.ie
X-WR-CALDESC:Events for Maryville Stables
REFRESH-INTERVAL;VALUE=DURATION:PT1H
X-Robots-Tag:noindex
X-PUBLISHED-TTL:PT1H
BEGIN:VTIMEZONE
TZID:Europe/Dublin
BEGIN:DAYLIGHT
TZOFFSETFROM:+0000
TZOFFSETTO:+0100
TZNAME:IST
DTSTART:20220327T010000
END:DAYLIGHT
BEGIN:STANDARD
TZOFFSETFROM:+0100
TZOFFSETTO:+0000
TZNAME:GMT
DTSTART:20221030T010000
END:STANDARD
BEGIN:DAYLIGHT
TZOFFSETFROM:+0000
TZOFFSETTO:+0100
TZNAME:IST
DTSTART:20230326T010000
END:DAYLIGHT
BEGIN:STANDARD
TZOFFSETFROM:+0100
TZOFFSETTO:+0000
TZNAME:GMT
DTSTART:20231029T010000
END:STANDARD
BEGIN:DAYLIGHT
TZOFFSETFROM:+0000
TZOFFSETTO:+0100
TZNAME:IST
DTSTART:20240331T010000
END:DAYLIGHT
BEGIN:STANDARD
TZOFFSETFROM:+0100
TZOFFSETTO:+0000
TZNAME:GMT
DTSTART:20241027T010000
END:STANDARD
END:VTIMEZONE
BEGIN:VEVENT
DTSTART;VALUE=DATE:20230902
DTEND;VALUE=DATE:20230903
DTSTAMP:20260422T170128
CREATED:20230829T113119Z
LAST-MODIFIED:20230829T113218Z
UID:10000107-1693612800-1693699199@www.maryvillestables.ie
SUMMARY:Horse and Pony Autumn/Winter League 2023
DESCRIPTION:
URL:https://www.maryvillestables.ie/event/horse-and-pony-autumn-winter-league-2023/
LOCATION:Maryville Stables\, Ireland
CATEGORIES:2023,Autumn/Winter
ATTACH;FMTTYPE=image/jpeg:https://www.maryvillestables.ie/uploads/2023/08/original-6DCEE96E-BB47-4395-9940-CE27E93CA03F.jpeg
END:VEVENT
BEGIN:VEVENT
DTSTART;VALUE=DATE:20230909
DTEND;VALUE=DATE:20230910
DTSTAMP:20260422T170128
CREATED:20230829T113430Z
LAST-MODIFIED:20230829T113430Z
UID:10000108-1694217600-1694303999@www.maryvillestables.ie
SUMMARY:Horse and Pony Autumn/Winter League 2023
DESCRIPTION:
URL:https://www.maryvillestables.ie/event/horse-and-pony-autumn-winter-league-2023-2/
LOCATION:Maryville Stables\, Ireland
CATEGORIES:2023,Autumn/Winter
ATTACH;FMTTYPE=image/jpeg:https://www.maryvillestables.ie/uploads/2023/08/original-6DCEE96E-BB47-4395-9940-CE27E93CA03F.jpeg
END:VEVENT
BEGIN:VEVENT
DTSTART;VALUE=DATE:20230916
DTEND;VALUE=DATE:20230917
DTSTAMP:20260422T170128
CREATED:20230829T113613Z
LAST-MODIFIED:20230829T113613Z
UID:10000109-1694822400-1694908799@www.maryvillestables.ie
SUMMARY:Horse and Pony Autumn/Winter League 2023
DESCRIPTION:
URL:https://www.maryvillestables.ie/event/horse-and-pony-autumn-winter-league-2023-3/
LOCATION:Maryville Stables\, Ireland
CATEGORIES:2023,Autumn/Winter
ATTACH;FMTTYPE=image/jpeg:https://www.maryvillestables.ie/uploads/2023/08/original-6DCEE96E-BB47-4395-9940-CE27E93CA03F.jpeg
END:VEVENT
BEGIN:VEVENT
DTSTART;VALUE=DATE:20230930
DTEND;VALUE=DATE:20231001
DTSTAMP:20260422T170128
CREATED:20230829T113720Z
LAST-MODIFIED:20230829T113720Z
UID:10000110-1696032000-1696118399@www.maryvillestables.ie
SUMMARY:Horse and Pony Autumn/Winter League 2023
DESCRIPTION:
URL:https://www.maryvillestables.ie/event/horse-and-pony-autumn-winter-league-2023-4/
LOCATION:Maryville Stables\, Ireland
CATEGORIES:2023,Autumn/Winter
ATTACH;FMTTYPE=image/jpeg:https://www.maryvillestables.ie/uploads/2023/08/original-6DCEE96E-BB47-4395-9940-CE27E93CA03F.jpeg
END:VEVENT
END:VCALENDAR