BEGIN:VCALENDAR
VERSION:2.0
PRODID:-//Maryville Stables - ECPv6.15.18//NONSGML v1.0//EN
CALSCALE:GREGORIAN
METHOD:PUBLISH
X-ORIGINAL-URL:https://www.maryvillestables.ie
X-WR-CALDESC:Events for Maryville Stables
REFRESH-INTERVAL;VALUE=DURATION:PT1H
X-Robots-Tag:noindex
X-PUBLISHED-TTL:PT1H
BEGIN:VTIMEZONE
TZID:Europe/Dublin
BEGIN:DAYLIGHT
TZOFFSETFROM:+0000
TZOFFSETTO:+0100
TZNAME:IST
DTSTART:20220327T010000
END:DAYLIGHT
BEGIN:STANDARD
TZOFFSETFROM:+0100
TZOFFSETTO:+0000
TZNAME:GMT
DTSTART:20221030T010000
END:STANDARD
BEGIN:DAYLIGHT
TZOFFSETFROM:+0000
TZOFFSETTO:+0100
TZNAME:IST
DTSTART:20230326T010000
END:DAYLIGHT
BEGIN:STANDARD
TZOFFSETFROM:+0100
TZOFFSETTO:+0000
TZNAME:GMT
DTSTART:20231029T010000
END:STANDARD
BEGIN:DAYLIGHT
TZOFFSETFROM:+0000
TZOFFSETTO:+0100
TZNAME:IST
DTSTART:20240331T010000
END:DAYLIGHT
BEGIN:STANDARD
TZOFFSETFROM:+0100
TZOFFSETTO:+0000
TZNAME:GMT
DTSTART:20241027T010000
END:STANDARD
END:VTIMEZONE
BEGIN:VEVENT
DTSTART;VALUE=DATE:20231104
DTEND;VALUE=DATE:20231105
DTSTAMP:20260422T141950
CREATED:20231020T082430Z
LAST-MODIFIED:20231020T082430Z
UID:10000116-1699056000-1699142399@www.maryvillestables.ie
SUMMARY:Horse and Pony Autumn/Winter League 2023
DESCRIPTION:
URL:https://www.maryvillestables.ie/event/horse-and-pony-autumn-winter-league-2023-9/
LOCATION:Maryville Stables\, Ireland
CATEGORIES:2023,Autumn/Winter
ATTACH;FMTTYPE=image/jpeg:https://www.maryvillestables.ie/uploads/2023/08/original-6DCEE96E-BB47-4395-9940-CE27E93CA03F.jpeg
END:VEVENT
BEGIN:VEVENT
DTSTART;VALUE=DATE:20231111
DTEND;VALUE=DATE:20231112
DTSTAMP:20260422T141950
CREATED:20231020T082538Z
LAST-MODIFIED:20231020T082538Z
UID:10000117-1699660800-1699747199@www.maryvillestables.ie
SUMMARY:Horse and Pony Autumn/Winter League 2023
DESCRIPTION:
URL:https://www.maryvillestables.ie/event/horse-and-pony-autumn-winter-league-2023-10/
LOCATION:Maryville Stables\, Ireland
CATEGORIES:2023,Autumn/Winter
ATTACH;FMTTYPE=image/jpeg:https://www.maryvillestables.ie/uploads/2023/08/original-6DCEE96E-BB47-4395-9940-CE27E93CA03F.jpeg
END:VEVENT
BEGIN:VEVENT
DTSTART;VALUE=DATE:20231118
DTEND;VALUE=DATE:20231119
DTSTAMP:20260422T141950
CREATED:20231020T082702Z
LAST-MODIFIED:20231020T082702Z
UID:10000118-1700265600-1700351999@www.maryvillestables.ie
SUMMARY:Horse and Pony Autumn/Winter League 2023
DESCRIPTION:
URL:https://www.maryvillestables.ie/event/horse-and-pony-autumn-winter-league-2023-11/
LOCATION:Maryville Stables\, Ireland
CATEGORIES:2023,Autumn/Winter
ATTACH;FMTTYPE=image/jpeg:https://www.maryvillestables.ie/uploads/2023/08/original-6DCEE96E-BB47-4395-9940-CE27E93CA03F.jpeg
END:VEVENT
BEGIN:VEVENT
DTSTART;VALUE=DATE:20231125
DTEND;VALUE=DATE:20231126
DTSTAMP:20260422T141950
CREATED:20231110T080025Z
LAST-MODIFIED:20231110T080025Z
UID:10000119-1700870400-1700956799@www.maryvillestables.ie
SUMMARY:Horse and Pony Autumn/Winter League Final 2023
DESCRIPTION:
URL:https://www.maryvillestables.ie/event/horse-and-pony-autumn-winter-league-final-2023/
LOCATION:Maryville Stables\, Ireland
CATEGORIES:2023,Autumn/Winter
ATTACH;FMTTYPE=image/jpeg:https://www.maryvillestables.ie/uploads/2023/08/original-6DCEE96E-BB47-4395-9940-CE27E93CA03F.jpeg
END:VEVENT
END:VCALENDAR