BEGIN:VCALENDAR
VERSION:2.0
PRODID:-//Maryville Stables - ECPv6.15.18//NONSGML v1.0//EN
CALSCALE:GREGORIAN
METHOD:PUBLISH
X-ORIGINAL-URL:https://www.maryvillestables.ie
X-WR-CALDESC:Events for Maryville Stables
REFRESH-INTERVAL;VALUE=DURATION:PT1H
X-Robots-Tag:noindex
X-PUBLISHED-TTL:PT1H
BEGIN:VTIMEZONE
TZID:Europe/Dublin
BEGIN:DAYLIGHT
TZOFFSETFROM:+0000
TZOFFSETTO:+0100
TZNAME:IST
DTSTART:20230326T010000
END:DAYLIGHT
BEGIN:STANDARD
TZOFFSETFROM:+0100
TZOFFSETTO:+0000
TZNAME:GMT
DTSTART:20231029T010000
END:STANDARD
BEGIN:DAYLIGHT
TZOFFSETFROM:+0000
TZOFFSETTO:+0100
TZNAME:IST
DTSTART:20240331T010000
END:DAYLIGHT
BEGIN:STANDARD
TZOFFSETFROM:+0100
TZOFFSETTO:+0000
TZNAME:GMT
DTSTART:20241027T010000
END:STANDARD
BEGIN:DAYLIGHT
TZOFFSETFROM:+0000
TZOFFSETTO:+0100
TZNAME:IST
DTSTART:20250330T010000
END:DAYLIGHT
BEGIN:STANDARD
TZOFFSETFROM:+0100
TZOFFSETTO:+0000
TZNAME:GMT
DTSTART:20251026T010000
END:STANDARD
END:VTIMEZONE
BEGIN:VEVENT
DTSTART;VALUE=DATE:20240107
DTEND;VALUE=DATE:20240108
DTSTAMP:20260422T110934
CREATED:20240101T181106Z
LAST-MODIFIED:20240101T181201Z
UID:10000122-1704585600-1704671999@www.maryvillestables.ie
SUMMARY:2024 Derby Cross League
DESCRIPTION:
URL:https://www.maryvillestables.ie/event/2024-derby-cross-league/
LOCATION:Maryville Stables\, Ireland
CATEGORIES:2024,Spring
ATTACH;FMTTYPE=image/jpeg:https://www.maryvillestables.ie/uploads/2024/01/d5ead9e3-7de0-4b72-8113-0c2c316f89f9.jpg
END:VEVENT
BEGIN:VEVENT
DTSTART;VALUE=DATE:20240114
DTEND;VALUE=DATE:20240115
DTSTAMP:20260422T110934
CREATED:20240101T181336Z
LAST-MODIFIED:20240101T181412Z
UID:10000121-1705190400-1705276799@www.maryvillestables.ie
SUMMARY:2024 Derby Cross League
DESCRIPTION:
URL:https://www.maryvillestables.ie/event/2024-derby-cross-league-2/
LOCATION:Maryville Stables\, Ireland
CATEGORIES:2024,Spring
ATTACH;FMTTYPE=image/jpeg:https://www.maryvillestables.ie/uploads/2024/01/d5ead9e3-7de0-4b72-8113-0c2c316f89f9.jpg
END:VEVENT
BEGIN:VEVENT
DTSTART;VALUE=DATE:20240128
DTEND;VALUE=DATE:20240129
DTSTAMP:20260422T110934
CREATED:20240101T181512Z
LAST-MODIFIED:20240101T181512Z
UID:10000123-1706400000-1706486399@www.maryvillestables.ie
SUMMARY:2024 Derby Cross League
DESCRIPTION:
URL:https://www.maryvillestables.ie/event/2024-derby-cross-league-3/
LOCATION:Maryville Stables\, Ireland
CATEGORIES:2024,Spring
ATTACH;FMTTYPE=image/jpeg:https://www.maryvillestables.ie/uploads/2024/01/d5ead9e3-7de0-4b72-8113-0c2c316f89f9.jpg
END:VEVENT
END:VCALENDAR