BEGIN:VCALENDAR
VERSION:2.0
PRODID:-//Maryville Stables - ECPv6.15.18//NONSGML v1.0//EN
CALSCALE:GREGORIAN
METHOD:PUBLISH
X-ORIGINAL-URL:https://www.maryvillestables.ie
X-WR-CALDESC:Events for Maryville Stables
REFRESH-INTERVAL;VALUE=DURATION:PT1H
X-Robots-Tag:noindex
X-PUBLISHED-TTL:PT1H
BEGIN:VTIMEZONE
TZID:Europe/Dublin
BEGIN:DAYLIGHT
TZOFFSETFROM:+0000
TZOFFSETTO:+0100
TZNAME:IST
DTSTART:20230326T010000
END:DAYLIGHT
BEGIN:STANDARD
TZOFFSETFROM:+0100
TZOFFSETTO:+0000
TZNAME:GMT
DTSTART:20231029T010000
END:STANDARD
BEGIN:DAYLIGHT
TZOFFSETFROM:+0000
TZOFFSETTO:+0100
TZNAME:IST
DTSTART:20240331T010000
END:DAYLIGHT
BEGIN:STANDARD
TZOFFSETFROM:+0100
TZOFFSETTO:+0000
TZNAME:GMT
DTSTART:20241027T010000
END:STANDARD
BEGIN:DAYLIGHT
TZOFFSETFROM:+0000
TZOFFSETTO:+0100
TZNAME:IST
DTSTART:20250330T010000
END:DAYLIGHT
BEGIN:STANDARD
TZOFFSETFROM:+0100
TZOFFSETTO:+0000
TZNAME:GMT
DTSTART:20251026T010000
END:STANDARD
END:VTIMEZONE
BEGIN:VEVENT
DTSTART;VALUE=DATE:20240608
DTEND;VALUE=DATE:20240609
DTSTAMP:20260422T022452
CREATED:20240606T151007Z
LAST-MODIFIED:20240606T152342Z
UID:10000127-1717804800-1717891199@www.maryvillestables.ie
SUMMARY:Horse and Pony Summer League 2024
DESCRIPTION:
URL:https://www.maryvillestables.ie/event/horse-and-pony-summer-league-2024/
LOCATION:Maryville Stables\, Ireland
CATEGORIES:2024,Summer
ATTACH;FMTTYPE=image/jpeg:https://www.maryvillestables.ie/uploads/2024/06/original-E40873AF-4BCD-436F-957E-1D995A3ADB1B.jpeg
END:VEVENT
BEGIN:VEVENT
DTSTART;VALUE=DATE:20240615
DTEND;VALUE=DATE:20240616
DTSTAMP:20260422T022452
CREATED:20240606T152823Z
LAST-MODIFIED:20240606T152823Z
UID:10000128-1718409600-1718495999@www.maryvillestables.ie
SUMMARY:Horse and Pony Summer League 2024
DESCRIPTION:
URL:https://www.maryvillestables.ie/event/horse-and-pony-summer-league-2024-2/
LOCATION:Maryville Stables\, Ireland
CATEGORIES:2024,Summer
ATTACH;FMTTYPE=image/jpeg:https://www.maryvillestables.ie/uploads/2024/06/original-E40873AF-4BCD-436F-957E-1D995A3ADB1B.jpeg
END:VEVENT
BEGIN:VEVENT
DTSTART;VALUE=DATE:20240629
DTEND;VALUE=DATE:20240630
DTSTAMP:20260422T022452
CREATED:20240626T181353Z
LAST-MODIFIED:20240626T181353Z
UID:10000135-1719619200-1719705599@www.maryvillestables.ie
SUMMARY:Horse and Pony Summer League 2024
DESCRIPTION:
URL:https://www.maryvillestables.ie/event/horse-and-pony-summer-league-2024-8/
LOCATION:Maryville Stables\, Ireland
CATEGORIES:2024,Summer
ATTACH;FMTTYPE=image/jpeg:https://www.maryvillestables.ie/uploads/2024/06/original-E40873AF-4BCD-436F-957E-1D995A3ADB1B.jpeg
END:VEVENT
END:VCALENDAR