BEGIN:VCALENDAR
VERSION:2.0
PRODID:-//Maryville Stables - ECPv6.15.18//NONSGML v1.0//EN
CALSCALE:GREGORIAN
METHOD:PUBLISH
X-WR-CALNAME:Maryville Stables
X-ORIGINAL-URL:https://www.maryvillestables.ie
X-WR-CALDESC:Events for Maryville Stables
REFRESH-INTERVAL;VALUE=DURATION:PT1H
X-Robots-Tag:noindex
X-PUBLISHED-TTL:PT1H
BEGIN:VTIMEZONE
TZID:Europe/Dublin
BEGIN:DAYLIGHT
TZOFFSETFROM:+0000
TZOFFSETTO:+0100
TZNAME:IST
DTSTART:20230326T010000
END:DAYLIGHT
BEGIN:STANDARD
TZOFFSETFROM:+0100
TZOFFSETTO:+0000
TZNAME:GMT
DTSTART:20231029T010000
END:STANDARD
BEGIN:DAYLIGHT
TZOFFSETFROM:+0000
TZOFFSETTO:+0100
TZNAME:IST
DTSTART:20240331T010000
END:DAYLIGHT
BEGIN:STANDARD
TZOFFSETFROM:+0100
TZOFFSETTO:+0000
TZNAME:GMT
DTSTART:20241027T010000
END:STANDARD
BEGIN:DAYLIGHT
TZOFFSETFROM:+0000
TZOFFSETTO:+0100
TZNAME:IST
DTSTART:20250330T010000
END:DAYLIGHT
BEGIN:STANDARD
TZOFFSETFROM:+0100
TZOFFSETTO:+0000
TZNAME:GMT
DTSTART:20251026T010000
END:STANDARD
END:VTIMEZONE
BEGIN:VEVENT
DTSTART;VALUE=DATE:20240705
DTEND;VALUE=DATE:20240708
DTSTAMP:20260422T004354
CREATED:20240614T085633Z
LAST-MODIFIED:20240614T164906Z
UID:10000134-1720137600-1720396799@www.maryvillestables.ie
SUMMARY:Stabling & Hookup - Premier Grand Prix & DAFM Series
DESCRIPTION:
URL:https://www.maryvillestables.ie/event/stabling-hookup-premier-grand-prix-dafm-series/
LOCATION:Maryville Stables\, Ireland
CATEGORIES:2024
ATTACH;FMTTYPE=image/jpeg:https://www.maryvillestables.ie/uploads/2024/06/48593eaa-fd77-4984-97ce-e2177dc3e92f.jpeg
END:VEVENT
BEGIN:VEVENT
DTSTART;VALUE=DATE:20240713
DTEND;VALUE=DATE:20240714
DTSTAMP:20260422T004354
CREATED:20240614T083850Z
LAST-MODIFIED:20240614T083850Z
UID:10000129-1720828800-1720915199@www.maryvillestables.ie
SUMMARY:Horse and Pony Summer League 2024
DESCRIPTION:
URL:https://www.maryvillestables.ie/event/horse-and-pony-summer-league-2024-3/
LOCATION:Maryville Stables\, Ireland
CATEGORIES:2024,Summer
ATTACH;FMTTYPE=image/jpeg:https://www.maryvillestables.ie/uploads/2024/06/original-E40873AF-4BCD-436F-957E-1D995A3ADB1B.jpeg
END:VEVENT
BEGIN:VEVENT
DTSTART;VALUE=DATE:20240720
DTEND;VALUE=DATE:20240721
DTSTAMP:20260422T004354
CREATED:20240614T084058Z
LAST-MODIFIED:20240614T084058Z
UID:10000130-1721433600-1721519999@www.maryvillestables.ie
SUMMARY:Horse and Pony Summer League 2024
DESCRIPTION:
URL:https://www.maryvillestables.ie/event/horse-and-pony-summer-league-2024-4/
LOCATION:Maryville Stables\, Ireland
CATEGORIES:2024,Summer
ATTACH;FMTTYPE=image/jpeg:https://www.maryvillestables.ie/uploads/2024/06/original-E40873AF-4BCD-436F-957E-1D995A3ADB1B.jpeg
END:VEVENT
BEGIN:VEVENT
DTSTART;VALUE=DATE:20240727
DTEND;VALUE=DATE:20240728
DTSTAMP:20260422T004354
CREATED:20240614T084219Z
LAST-MODIFIED:20240614T084219Z
UID:10000131-1722038400-1722124799@www.maryvillestables.ie
SUMMARY:Horse and Pony Summer League 2024
DESCRIPTION:
URL:https://www.maryvillestables.ie/event/horse-and-pony-summer-league-2024-5/
LOCATION:Maryville Stables\, Ireland
CATEGORIES:2024,Summer
ATTACH;FMTTYPE=image/jpeg:https://www.maryvillestables.ie/uploads/2024/06/original-E40873AF-4BCD-436F-957E-1D995A3ADB1B.jpeg
END:VEVENT
END:VCALENDAR