BEGIN:VCALENDAR
VERSION:2.0
PRODID:-//Maryville Stables - ECPv6.15.18//NONSGML v1.0//EN
CALSCALE:GREGORIAN
METHOD:PUBLISH
X-WR-CALNAME:Maryville Stables
X-ORIGINAL-URL:https://www.maryvillestables.ie
X-WR-CALDESC:Events for Maryville Stables
REFRESH-INTERVAL;VALUE=DURATION:PT1H
X-Robots-Tag:noindex
X-PUBLISHED-TTL:PT1H
BEGIN:VTIMEZONE
TZID:Europe/Dublin
BEGIN:DAYLIGHT
TZOFFSETFROM:+0000
TZOFFSETTO:+0100
TZNAME:IST
DTSTART:20230326T010000
END:DAYLIGHT
BEGIN:STANDARD
TZOFFSETFROM:+0100
TZOFFSETTO:+0000
TZNAME:GMT
DTSTART:20231029T010000
END:STANDARD
BEGIN:DAYLIGHT
TZOFFSETFROM:+0000
TZOFFSETTO:+0100
TZNAME:IST
DTSTART:20240331T010000
END:DAYLIGHT
BEGIN:STANDARD
TZOFFSETFROM:+0100
TZOFFSETTO:+0000
TZNAME:GMT
DTSTART:20241027T010000
END:STANDARD
BEGIN:DAYLIGHT
TZOFFSETFROM:+0000
TZOFFSETTO:+0100
TZNAME:IST
DTSTART:20250330T010000
END:DAYLIGHT
BEGIN:STANDARD
TZOFFSETFROM:+0100
TZOFFSETTO:+0000
TZNAME:GMT
DTSTART:20251026T010000
END:STANDARD
END:VTIMEZONE
BEGIN:VEVENT
DTSTART;VALUE=DATE:20241005
DTEND;VALUE=DATE:20241006
DTSTAMP:20260421T194418
CREATED:20241003T211747Z
LAST-MODIFIED:20241003T211747Z
UID:10000142-1728086400-1728172799@www.maryvillestables.ie
SUMMARY:Horse and Pony Autumn League 2024
DESCRIPTION:
URL:https://www.maryvillestables.ie/event/horse-and-pony-autumn-league-2024-4/
LOCATION:Maryville Stables\, Ireland
CATEGORIES:2024,Summer
ATTACH;FMTTYPE=image/png:https://www.maryvillestables.ie/uploads/2024/09/Screenshot-2024-09-03-at-09.59.45.png
END:VEVENT
BEGIN:VEVENT
DTSTART;VALUE=DATE:20241006
DTEND;VALUE=DATE:20241007
DTSTAMP:20260421T194418
CREATED:20240911T194823Z
LAST-MODIFIED:20241004T075014Z
UID:10000141-1728172800-1728259199@www.maryvillestables.ie
SUMMARY:Interschools Showjumping
DESCRIPTION:
URL:https://www.maryvillestables.ie/event/interschools-showjumping-3/
LOCATION:Maryville Stables\, Ireland
CATEGORIES:2024
ATTACH;FMTTYPE=image/png:https://www.maryvillestables.ie/uploads/2024/09/Screenshot-2024-09-11-at-20.47.53.png
END:VEVENT
BEGIN:VEVENT
DTSTART;VALUE=DATE:20241012
DTEND;VALUE=DATE:20241013
DTSTAMP:20260421T194418
CREATED:20241004T170943Z
LAST-MODIFIED:20241004T170943Z
UID:10000143-1728691200-1728777599@www.maryvillestables.ie
SUMMARY:Horse and Pony Autumn League 2024
DESCRIPTION:
URL:https://www.maryvillestables.ie/event/horse-and-pony-autumn-league-2024-5/
LOCATION:Maryville Stables\, Ireland
CATEGORIES:2024,Summer
ATTACH;FMTTYPE=image/png:https://www.maryvillestables.ie/uploads/2024/09/Screenshot-2024-09-03-at-09.59.45.png
END:VEVENT
BEGIN:VEVENT
DTSTART;VALUE=DATE:20241019
DTEND;VALUE=DATE:20241020
DTSTAMP:20260421T194418
CREATED:20241004T171102Z
LAST-MODIFIED:20241004T171102Z
UID:10000144-1729296000-1729382399@www.maryvillestables.ie
SUMMARY:Horse and Pony Autumn League 2024
DESCRIPTION:
URL:https://www.maryvillestables.ie/event/horse-and-pony-autumn-league-2024-6/
LOCATION:Maryville Stables\, Ireland
CATEGORIES:2024,Summer
ATTACH;FMTTYPE=image/png:https://www.maryvillestables.ie/uploads/2024/09/Screenshot-2024-09-03-at-09.59.45.png
END:VEVENT
BEGIN:VEVENT
DTSTART;VALUE=DATE:20241028
DTEND;VALUE=DATE:20241029
DTSTAMP:20260421T194418
CREATED:20241004T171215Z
LAST-MODIFIED:20241004T171215Z
UID:10000145-1730073600-1730159999@www.maryvillestables.ie
SUMMARY:Horse and Pony Autumn League 2024
DESCRIPTION:
URL:https://www.maryvillestables.ie/event/horse-and-pony-autumn-league-2024-7/
LOCATION:Maryville Stables\, Ireland
CATEGORIES:2024,Summer
ATTACH;FMTTYPE=image/png:https://www.maryvillestables.ie/uploads/2024/09/Screenshot-2024-09-03-at-09.59.45.png
END:VEVENT
END:VCALENDAR