BEGIN:VCALENDAR
VERSION:2.0
PRODID:-//Maryville Stables - ECPv6.15.18//NONSGML v1.0//EN
CALSCALE:GREGORIAN
METHOD:PUBLISH
X-ORIGINAL-URL:https://www.maryvillestables.ie
X-WR-CALDESC:Events for Maryville Stables
REFRESH-INTERVAL;VALUE=DURATION:PT1H
X-Robots-Tag:noindex
X-PUBLISHED-TTL:PT1H
BEGIN:VTIMEZONE
TZID:Europe/Dublin
BEGIN:DAYLIGHT
TZOFFSETFROM:+0000
TZOFFSETTO:+0100
TZNAME:IST
DTSTART:20230326T010000
END:DAYLIGHT
BEGIN:STANDARD
TZOFFSETFROM:+0100
TZOFFSETTO:+0000
TZNAME:GMT
DTSTART:20231029T010000
END:STANDARD
BEGIN:DAYLIGHT
TZOFFSETFROM:+0000
TZOFFSETTO:+0100
TZNAME:IST
DTSTART:20240331T010000
END:DAYLIGHT
BEGIN:STANDARD
TZOFFSETFROM:+0100
TZOFFSETTO:+0000
TZNAME:GMT
DTSTART:20241027T010000
END:STANDARD
BEGIN:DAYLIGHT
TZOFFSETFROM:+0000
TZOFFSETTO:+0100
TZNAME:IST
DTSTART:20250330T010000
END:DAYLIGHT
BEGIN:STANDARD
TZOFFSETFROM:+0100
TZOFFSETTO:+0000
TZNAME:GMT
DTSTART:20251026T010000
END:STANDARD
END:VTIMEZONE
BEGIN:VEVENT
DTSTART;VALUE=DATE:20241102
DTEND;VALUE=DATE:20241103
DTSTAMP:20260421T181229
CREATED:20241004T171339Z
LAST-MODIFIED:20241004T171339Z
UID:10000146-1730505600-1730591999@www.maryvillestables.ie
SUMMARY:Horse and Pony Autumn League 2024
DESCRIPTION:
URL:https://www.maryvillestables.ie/event/horse-and-pony-autumn-league-2024-8/
LOCATION:Maryville Stables\, Ireland
CATEGORIES:2024,Summer
ATTACH;FMTTYPE=image/png:https://www.maryvillestables.ie/uploads/2024/09/Screenshot-2024-09-03-at-09.59.45.png
END:VEVENT
BEGIN:VEVENT
DTSTART;VALUE=DATE:20241109
DTEND;VALUE=DATE:20241110
DTSTAMP:20260421T181229
CREATED:20241004T171507Z
LAST-MODIFIED:20241004T171507Z
UID:10000147-1731110400-1731196799@www.maryvillestables.ie
SUMMARY:Horse and Pony Autumn League 2024
DESCRIPTION:
URL:https://www.maryvillestables.ie/event/horse-and-pony-autumn-league-2024-9/
LOCATION:Maryville Stables\, Ireland
CATEGORIES:2024,Summer
ATTACH;FMTTYPE=image/png:https://www.maryvillestables.ie/uploads/2024/09/Screenshot-2024-09-03-at-09.59.45.png
END:VEVENT
BEGIN:VEVENT
DTSTART;VALUE=DATE:20241116
DTEND;VALUE=DATE:20241117
DTSTAMP:20260421T181229
CREATED:20241004T171618Z
LAST-MODIFIED:20241004T171618Z
UID:10000148-1731715200-1731801599@www.maryvillestables.ie
SUMMARY:Horse and Pony Autumn League 2024
DESCRIPTION:
URL:https://www.maryvillestables.ie/event/horse-and-pony-autumn-league-2024-10/
LOCATION:Maryville Stables\, Ireland
CATEGORIES:2024,Summer
ATTACH;FMTTYPE=image/png:https://www.maryvillestables.ie/uploads/2024/09/Screenshot-2024-09-03-at-09.59.45.png
END:VEVENT
BEGIN:VEVENT
DTSTART;VALUE=DATE:20241123
DTEND;VALUE=DATE:20241124
DTSTAMP:20260421T181229
CREATED:20241004T171814Z
LAST-MODIFIED:20241004T171814Z
UID:10000149-1732320000-1732406399@www.maryvillestables.ie
SUMMARY:Horse and Pony Autumn League 2024
DESCRIPTION:
URL:https://www.maryvillestables.ie/event/horse-and-pony-autumn-league-2024-11/
LOCATION:Maryville Stables\, Ireland
CATEGORIES:2024,Summer
ATTACH;FMTTYPE=image/png:https://www.maryvillestables.ie/uploads/2024/09/Screenshot-2024-09-03-at-09.59.45.png
END:VEVENT
BEGIN:VEVENT
DTSTART;VALUE=DATE:20241130
DTEND;VALUE=DATE:20241201
DTSTAMP:20260421T181229
CREATED:20241004T172005Z
LAST-MODIFIED:20241004T172005Z
UID:10000150-1732924800-1733011199@www.maryvillestables.ie
SUMMARY:Horse and Pony Autumn League 2024
DESCRIPTION:
URL:https://www.maryvillestables.ie/event/horse-and-pony-autumn-league-2024-12/
LOCATION:Maryville Stables\, Ireland
CATEGORIES:2024,Summer
ATTACH;FMTTYPE=image/png:https://www.maryvillestables.ie/uploads/2024/09/Screenshot-2024-09-03-at-09.59.45.png
END:VEVENT
END:VCALENDAR