BEGIN:VCALENDAR
VERSION:2.0
PRODID:-//Maryville Stables - ECPv6.15.18//NONSGML v1.0//EN
CALSCALE:GREGORIAN
METHOD:PUBLISH
X-ORIGINAL-URL:https://www.maryvillestables.ie
X-WR-CALDESC:Events for Maryville Stables
REFRESH-INTERVAL;VALUE=DURATION:PT1H
X-Robots-Tag:noindex
X-PUBLISHED-TTL:PT1H
BEGIN:VTIMEZONE
TZID:Europe/Dublin
BEGIN:DAYLIGHT
TZOFFSETFROM:+0000
TZOFFSETTO:+0100
TZNAME:IST
DTSTART:20240331T010000
END:DAYLIGHT
BEGIN:STANDARD
TZOFFSETFROM:+0100
TZOFFSETTO:+0000
TZNAME:GMT
DTSTART:20241027T010000
END:STANDARD
BEGIN:DAYLIGHT
TZOFFSETFROM:+0000
TZOFFSETTO:+0100
TZNAME:IST
DTSTART:20250330T010000
END:DAYLIGHT
BEGIN:STANDARD
TZOFFSETFROM:+0100
TZOFFSETTO:+0000
TZNAME:GMT
DTSTART:20251026T010000
END:STANDARD
BEGIN:DAYLIGHT
TZOFFSETFROM:+0000
TZOFFSETTO:+0100
TZNAME:IST
DTSTART:20260329T010000
END:DAYLIGHT
BEGIN:STANDARD
TZOFFSETFROM:+0100
TZOFFSETTO:+0000
TZNAME:GMT
DTSTART:20261025T010000
END:STANDARD
END:VTIMEZONE
BEGIN:VEVENT
DTSTART;VALUE=DATE:20250104
DTEND;VALUE=DATE:20250105
DTSTAMP:20260421T150027
CREATED:20241231T100018Z
LAST-MODIFIED:20241231T100018Z
UID:10000152-1735948800-1736035199@www.maryvillestables.ie
SUMMARY:Derby Cross & Unaffiliated Showjumping
DESCRIPTION:
URL:https://www.maryvillestables.ie/event/derby-cross-unaffiliated-showjumping/
LOCATION:Maryville Stables\, Ireland
CATEGORIES:Spring
ATTACH;FMTTYPE=image/jpeg:https://www.maryvillestables.ie/uploads/2024/12/4c21790f-286b-44dd-ac9b-9d575c3617b6.jpg
END:VEVENT
BEGIN:VEVENT
DTSTART;VALUE=DATE:20250111
DTEND;VALUE=DATE:20250112
DTSTAMP:20260421T150027
CREATED:20241231T100245Z
LAST-MODIFIED:20241231T100245Z
UID:10000153-1736553600-1736639999@www.maryvillestables.ie
SUMMARY:Derby Cross & Unaffiliated Showjumping
DESCRIPTION:
URL:https://www.maryvillestables.ie/event/derby-cross-unaffiliated-showjumping-2/
LOCATION:Maryville Stables\, Ireland
CATEGORIES:Spring
ATTACH;FMTTYPE=image/jpeg:https://www.maryvillestables.ie/uploads/2024/12/4c21790f-286b-44dd-ac9b-9d575c3617b6.jpg
END:VEVENT
BEGIN:VEVENT
DTSTART;VALUE=DATE:20250112
DTEND;VALUE=DATE:20250113
DTSTAMP:20260421T150027
CREATED:20250106T135347Z
LAST-MODIFIED:20250106T135347Z
UID:10000156-1736640000-1736726399@www.maryvillestables.ie
SUMMARY:Training Clinic with Mike and Trish Ryan
DESCRIPTION:
URL:https://www.maryvillestables.ie/event/training-clinic-with-mike-and-trish-ryan/
LOCATION:Maryville Stables\, Ireland
CATEGORIES:2025,Training
ATTACH;FMTTYPE=image/jpeg:https://www.maryvillestables.ie/uploads/2025/01/b1b0f7e7-86b0-43b0-b821-f5b928b06726.jpg
END:VEVENT
BEGIN:VEVENT
DTSTART;VALUE=DATE:20250118
DTEND;VALUE=DATE:20250119
DTSTAMP:20260421T150027
CREATED:20241231T100347Z
LAST-MODIFIED:20241231T100347Z
UID:10000154-1737158400-1737244799@www.maryvillestables.ie
SUMMARY:Derby Cross & Unaffiliated Showjumping
DESCRIPTION:
URL:https://www.maryvillestables.ie/event/derby-cross-unaffiliated-showjumping-3/
LOCATION:Maryville Stables\, Ireland
CATEGORIES:Spring
ATTACH;FMTTYPE=image/jpeg:https://www.maryvillestables.ie/uploads/2024/12/4c21790f-286b-44dd-ac9b-9d575c3617b6.jpg
END:VEVENT
BEGIN:VEVENT
DTSTART;VALUE=DATE:20250125
DTEND;VALUE=DATE:20250126
DTSTAMP:20260421T150027
CREATED:20241231T100456Z
LAST-MODIFIED:20241231T100456Z
UID:10000155-1737763200-1737849599@www.maryvillestables.ie
SUMMARY:Derby Cross & Unaffiliated Showjumping
DESCRIPTION:
URL:https://www.maryvillestables.ie/event/derby-cross-unaffiliated-showjumping-4/
LOCATION:Maryville Stables\, Ireland
CATEGORIES:Spring
ATTACH;FMTTYPE=image/jpeg:https://www.maryvillestables.ie/uploads/2024/12/4c21790f-286b-44dd-ac9b-9d575c3617b6.jpg
END:VEVENT
BEGIN:VEVENT
DTSTART;VALUE=DATE:20250126
DTEND;VALUE=DATE:20250127
DTSTAMP:20260421T150027
CREATED:20250106T135706Z
LAST-MODIFIED:20250106T135706Z
UID:10000157-1737849600-1737935999@www.maryvillestables.ie
SUMMARY:Training Clinic with Mike and Trish Ryan
DESCRIPTION:
URL:https://www.maryvillestables.ie/event/training-clinic-with-mike-and-trish-ryan-2/
LOCATION:Maryville Stables\, Ireland
CATEGORIES:2025,Training
ATTACH;FMTTYPE=image/jpeg:https://www.maryvillestables.ie/uploads/2025/01/b1b0f7e7-86b0-43b0-b821-f5b928b06726.jpg
END:VEVENT
END:VCALENDAR