BEGIN:VCALENDAR
VERSION:2.0
PRODID:-//Maryville Stables - ECPv6.15.18//NONSGML v1.0//EN
CALSCALE:GREGORIAN
METHOD:PUBLISH
X-ORIGINAL-URL:https://www.maryvillestables.ie
X-WR-CALDESC:Events for Maryville Stables
REFRESH-INTERVAL;VALUE=DURATION:PT1H
X-Robots-Tag:noindex
X-PUBLISHED-TTL:PT1H
BEGIN:VTIMEZONE
TZID:Europe/Dublin
BEGIN:DAYLIGHT
TZOFFSETFROM:+0000
TZOFFSETTO:+0100
TZNAME:IST
DTSTART:20240331T010000
END:DAYLIGHT
BEGIN:STANDARD
TZOFFSETFROM:+0100
TZOFFSETTO:+0000
TZNAME:GMT
DTSTART:20241027T010000
END:STANDARD
BEGIN:DAYLIGHT
TZOFFSETFROM:+0000
TZOFFSETTO:+0100
TZNAME:IST
DTSTART:20250330T010000
END:DAYLIGHT
BEGIN:STANDARD
TZOFFSETFROM:+0100
TZOFFSETTO:+0000
TZNAME:GMT
DTSTART:20251026T010000
END:STANDARD
BEGIN:DAYLIGHT
TZOFFSETFROM:+0000
TZOFFSETTO:+0100
TZNAME:IST
DTSTART:20260329T010000
END:DAYLIGHT
BEGIN:STANDARD
TZOFFSETFROM:+0100
TZOFFSETTO:+0000
TZNAME:GMT
DTSTART:20261025T010000
END:STANDARD
END:VTIMEZONE
BEGIN:VEVENT
DTSTART;VALUE=DATE:20250201
DTEND;VALUE=DATE:20250202
DTSTAMP:20260421T133347
CREATED:20250122T121331Z
LAST-MODIFIED:20250127T125107Z
UID:10000160-1738368000-1738454399@www.maryvillestables.ie
SUMMARY:Horse and Pony Spring League 2025
DESCRIPTION:
URL:https://www.maryvillestables.ie/event/horse-and-pony-spring-league-2025/
LOCATION:Maryville Stables\, Ireland
CATEGORIES:2025,Spring
ATTACH;FMTTYPE=image/jpeg:https://www.maryvillestables.ie/uploads/2025/01/bd2a87a3-284e-44f8-b67b-49bc3d853a4f.jpg
END:VEVENT
BEGIN:VEVENT
DTSTART;VALUE=DATE:20250208
DTEND;VALUE=DATE:20250209
DTSTAMP:20260421T133348
CREATED:20250122T121604Z
LAST-MODIFIED:20250127T125219Z
UID:10000161-1738972800-1739059199@www.maryvillestables.ie
SUMMARY:Horse and Pony Spring League 2025
DESCRIPTION:
URL:https://www.maryvillestables.ie/event/horse-and-pony-spring-league-2025-2/
LOCATION:Maryville Stables\, Ireland
CATEGORIES:2025,Spring
ATTACH;FMTTYPE=image/jpeg:https://www.maryvillestables.ie/uploads/2025/01/bd2a87a3-284e-44f8-b67b-49bc3d853a4f.jpg
END:VEVENT
BEGIN:VEVENT
DTSTART;VALUE=DATE:20250209
DTEND;VALUE=DATE:20250210
DTSTAMP:20260421T133348
CREATED:20250123T102850Z
LAST-MODIFIED:20250208T165225Z
UID:10000164-1739059200-1739145599@www.maryvillestables.ie
SUMMARY:Training Clinic with Mike and Trish Ryan
DESCRIPTION:
URL:https://www.maryvillestables.ie/event/training-clinic-with-mike-and-trish-ryan-3/
LOCATION:Maryville Stables\, Ireland
CATEGORIES:2025,Training
ATTACH;FMTTYPE=image/jpeg:https://www.maryvillestables.ie/uploads/2025/01/bbc69ee3-4e7c-4bbb-876c-8ed8712227cf.jpg
END:VEVENT
BEGIN:VEVENT
DTSTART;VALUE=DATE:20250215
DTEND;VALUE=DATE:20250216
DTSTAMP:20260421T133348
CREATED:20250122T121744Z
LAST-MODIFIED:20250127T125316Z
UID:10000162-1739577600-1739663999@www.maryvillestables.ie
SUMMARY:Horse and Pony Spring League 2025
DESCRIPTION:
URL:https://www.maryvillestables.ie/event/horse-and-pony-spring-league-2025-3/
LOCATION:Maryville Stables\, Ireland
CATEGORIES:2025,Spring
ATTACH;FMTTYPE=image/jpeg:https://www.maryvillestables.ie/uploads/2025/01/bd2a87a3-284e-44f8-b67b-49bc3d853a4f.jpg
END:VEVENT
BEGIN:VEVENT
DTSTART;VALUE=DATE:20250216
DTEND;VALUE=DATE:20250217
DTSTAMP:20260421T133348
CREATED:20250117T094206Z
LAST-MODIFIED:20250117T094206Z
UID:10000159-1739664000-1739750399@www.maryvillestables.ie
SUMMARY:Combined Training
DESCRIPTION:
URL:https://www.maryvillestables.ie/event/combined-training/
LOCATION:Maryville Stables\, Ireland
CATEGORIES:2025,Spring
ATTACH;FMTTYPE=image/jpeg:https://www.maryvillestables.ie/uploads/2025/01/1d31540a-010a-44d0-baae-b8c45c6bf390.jpg
END:VEVENT
BEGIN:VEVENT
DTSTART;VALUE=DATE:20250222
DTEND;VALUE=DATE:20250223
DTSTAMP:20260421T133348
CREATED:20250122T121914Z
LAST-MODIFIED:20250127T125419Z
UID:10000163-1740182400-1740268799@www.maryvillestables.ie
SUMMARY:Horse and Pony Spring League 2025
DESCRIPTION:
URL:https://www.maryvillestables.ie/event/horse-and-pony-spring-league-2025-4/
LOCATION:Maryville Stables\, Ireland
CATEGORIES:2025,Spring
ATTACH;FMTTYPE=image/jpeg:https://www.maryvillestables.ie/uploads/2025/01/bd2a87a3-284e-44f8-b67b-49bc3d853a4f.jpg
END:VEVENT
BEGIN:VEVENT
DTSTART;VALUE=DATE:20250226
DTEND;VALUE=DATE:20250227
DTSTAMP:20260421T133348
CREATED:20250219T103530Z
LAST-MODIFIED:20250219T103530Z
UID:10000168-1740528000-1740614399@www.maryvillestables.ie
SUMMARY:Masterclass with Gueorgui Gueorguiev and Launch of Maryville Pony Super League
DESCRIPTION:
URL:https://www.maryvillestables.ie/event/masterclass-with-gueorgui-gueorguiev-and-launch-of-maryville-pony-super-league/
LOCATION:Maryville Stables\, Ireland
ATTACH;FMTTYPE=image/jpeg:https://www.maryvillestables.ie/uploads/2025/02/08704122-701f-4cd4-b0b0-1c49c8cd1a3d.jpg
END:VEVENT
END:VCALENDAR