BEGIN:VCALENDAR
VERSION:2.0
PRODID:-//Maryville Stables - ECPv6.15.18//NONSGML v1.0//EN
CALSCALE:GREGORIAN
METHOD:PUBLISH
X-WR-CALNAME:Maryville Stables
X-ORIGINAL-URL:https://www.maryvillestables.ie
X-WR-CALDESC:Events for Maryville Stables
REFRESH-INTERVAL;VALUE=DURATION:PT1H
X-Robots-Tag:noindex
X-PUBLISHED-TTL:PT1H
BEGIN:VTIMEZONE
TZID:Europe/Dublin
BEGIN:DAYLIGHT
TZOFFSETFROM:+0000
TZOFFSETTO:+0100
TZNAME:IST
DTSTART:20200329T010000
END:DAYLIGHT
BEGIN:STANDARD
TZOFFSETFROM:+0100
TZOFFSETTO:+0000
TZNAME:GMT
DTSTART:20201025T010000
END:STANDARD
BEGIN:DAYLIGHT
TZOFFSETFROM:+0000
TZOFFSETTO:+0100
TZNAME:IST
DTSTART:20210328T010000
END:DAYLIGHT
BEGIN:STANDARD
TZOFFSETFROM:+0100
TZOFFSETTO:+0000
TZNAME:GMT
DTSTART:20211031T010000
END:STANDARD
BEGIN:DAYLIGHT
TZOFFSETFROM:+0000
TZOFFSETTO:+0100
TZNAME:IST
DTSTART:20220327T010000
END:DAYLIGHT
BEGIN:STANDARD
TZOFFSETFROM:+0100
TZOFFSETTO:+0000
TZNAME:GMT
DTSTART:20221030T010000
END:STANDARD
BEGIN:DAYLIGHT
TZOFFSETFROM:+0000
TZOFFSETTO:+0100
TZNAME:IST
DTSTART:20230326T010000
END:DAYLIGHT
BEGIN:STANDARD
TZOFFSETFROM:+0100
TZOFFSETTO:+0000
TZNAME:GMT
DTSTART:20231029T010000
END:STANDARD
END:VTIMEZONE
BEGIN:VEVENT
DTSTART;VALUE=DATE:20220806
DTEND;VALUE=DATE:20220807
DTSTAMP:20260421T194859
CREATED:20220720T085623Z
LAST-MODIFIED:20220720T085858Z
UID:10000053-1659744000-1659830399@www.maryvillestables.ie
SUMMARY:Horse and Pony Summer League 2022
DESCRIPTION:
URL:https://www.maryvillestables.ie/event/horse-and-pony-summer-league-2022-10/
LOCATION:Maryville Stables\, Ireland
CATEGORIES:2022,Summer
ATTACH;FMTTYPE=image/png:https://www.maryvillestables.ie/uploads/2022/05/Screenshot-2022-05-16-at-17.06.48.png
END:VEVENT
BEGIN:VEVENT
DTSTART;VALUE=DATE:20220723
DTEND;VALUE=DATE:20220724
DTSTAMP:20260421T194859
CREATED:20220720T084837Z
LAST-MODIFIED:20220720T085107Z
UID:10000052-1658534400-1658620799@www.maryvillestables.ie
SUMMARY:Horse and Pony Summer League 2022
DESCRIPTION:
URL:https://www.maryvillestables.ie/event/horse-and-pony-summer-league-2022-9/
LOCATION:Maryville Stables\, Ireland
CATEGORIES:2022,Summer
ATTACH;FMTTYPE=image/png:https://www.maryvillestables.ie/uploads/2022/05/Screenshot-2022-05-16-at-17.06.48.png
END:VEVENT
BEGIN:VEVENT
DTSTART;TZID=Europe/Dublin:20220715T080000
DTEND;TZID=Europe/Dublin:20220717T170000
DTSTAMP:20260421T194859
CREATED:20220628T181236Z
LAST-MODIFIED:20220713T133948Z
UID:10000050-1657872000-1658077200@www.maryvillestables.ie
SUMMARY:Maryville Summer Horse Grand Prix - Stabling
DESCRIPTION:
URL:https://www.maryvillestables.ie/event/maryville-summer-horse-grand-prix-stabling/
LOCATION:Maryville Stables\, Ireland
CATEGORIES:2022
ATTACH;FMTTYPE=image/jpeg:https://www.maryvillestables.ie/uploads/Maryville15.jpg
END:VEVENT
BEGIN:VEVENT
DTSTART;VALUE=DATE:20220715
DTEND;VALUE=DATE:20220716
DTSTAMP:20260421T194859
CREATED:20220627T175826Z
LAST-MODIFIED:20220627T175855Z
UID:10000049-1657843200-1657929599@www.maryvillestables.ie
SUMMARY:Horse and Pony Summer League 2022
DESCRIPTION:
URL:https://www.maryvillestables.ie/event/horse-and-pony-summer-league-2022-8/
LOCATION:Maryville Stables\, Ireland
CATEGORIES:2022,Summer
ATTACH;FMTTYPE=image/png:https://www.maryvillestables.ie/uploads/2022/05/Screenshot-2022-05-16-at-17.06.48.png
END:VEVENT
BEGIN:VEVENT
DTSTART;TZID=Europe/Dublin:20220711T080000
DTEND;TZID=Europe/Dublin:20220715T170000
DTSTAMP:20260421T194859
CREATED:20220627T175421Z
LAST-MODIFIED:20220627T175421Z
UID:10000048-1657526400-1657904400@www.maryvillestables.ie
SUMMARY:Pony Club Camp - Stabling
DESCRIPTION:
URL:https://www.maryvillestables.ie/event/pony-club-camp-stabling/
LOCATION:Maryville Stables\, Ireland
CATEGORIES:2022
ATTACH;FMTTYPE=image/jpeg:https://www.maryvillestables.ie/uploads/Maryville15.jpg
END:VEVENT
BEGIN:VEVENT
DTSTART;VALUE=DATE:20220709
DTEND;VALUE=DATE:20220710
DTSTAMP:20260421T194859
CREATED:20220617T072856Z
LAST-MODIFIED:20220617T072926Z
UID:10000047-1657324800-1657411199@www.maryvillestables.ie
SUMMARY:Horse and Pony Summer League 2022
DESCRIPTION:
URL:https://www.maryvillestables.ie/event/horse-and-pony-summer-league-2022-7/
LOCATION:Maryville Stables\, Ireland
CATEGORIES:2022,Summer
ATTACH;FMTTYPE=image/png:https://www.maryvillestables.ie/uploads/2022/05/Screenshot-2022-05-16-at-17.06.48.png
END:VEVENT
BEGIN:VEVENT
DTSTART;VALUE=DATE:20220702
DTEND;VALUE=DATE:20220703
DTSTAMP:20260421T194859
CREATED:20220610T131822Z
LAST-MODIFIED:20220610T131855Z
UID:10000046-1656720000-1656806399@www.maryvillestables.ie
SUMMARY:Horse and Pony Summer League 2022
DESCRIPTION:
URL:https://www.maryvillestables.ie/event/horse-and-pony-summer-league-2022-6/
LOCATION:Maryville Stables\, Ireland
CATEGORIES:2022,Summer
ATTACH;FMTTYPE=image/png:https://www.maryvillestables.ie/uploads/2022/05/Screenshot-2022-05-16-at-17.06.48.png
END:VEVENT
BEGIN:VEVENT
DTSTART;VALUE=DATE:20220625
DTEND;VALUE=DATE:20220626
DTSTAMP:20260421T194859
CREATED:20220610T125524Z
LAST-MODIFIED:20220610T131943Z
UID:10000045-1656115200-1656201599@www.maryvillestables.ie
SUMMARY:Horse and Pony Summer League 2022
DESCRIPTION:
URL:https://www.maryvillestables.ie/event/horse-and-pony-summer-league-2022-5/
LOCATION:Maryville Stables\, Ireland
CATEGORIES:2022,Summer
ATTACH;FMTTYPE=image/png:https://www.maryvillestables.ie/uploads/2022/05/Screenshot-2022-05-16-at-17.06.48.png
END:VEVENT
BEGIN:VEVENT
DTSTART;VALUE=DATE:20220618
DTEND;VALUE=DATE:20220619
DTSTAMP:20260421T194859
CREATED:20220516T162413Z
LAST-MODIFIED:20220516T162450Z
UID:10000044-1655510400-1655596799@www.maryvillestables.ie
SUMMARY:Horse and Pony Summer League 2022
DESCRIPTION:
URL:https://www.maryvillestables.ie/event/horse-and-pony-summer-league-2022-4/
LOCATION:Maryville Stables\, Ireland
CATEGORIES:2022,Summer
ATTACH;FMTTYPE=image/png:https://www.maryvillestables.ie/uploads/2022/05/Screenshot-2022-05-16-at-17.06.48.png
END:VEVENT
BEGIN:VEVENT
DTSTART;VALUE=DATE:20220611
DTEND;VALUE=DATE:20220612
DTSTAMP:20260421T194859
CREATED:20220516T162032Z
LAST-MODIFIED:20220516T162149Z
UID:10000043-1654905600-1654991999@www.maryvillestables.ie
SUMMARY:Horse and Pony Summer League 2022
DESCRIPTION:
URL:https://www.maryvillestables.ie/event/horse-and-pony-summer-league-2022-3/
LOCATION:Maryville Stables\, Ireland
CATEGORIES:2022,Summer
ATTACH;FMTTYPE=image/png:https://www.maryvillestables.ie/uploads/2022/05/Screenshot-2022-05-16-at-17.06.48.png
END:VEVENT
BEGIN:VEVENT
DTSTART;VALUE=DATE:20220606
DTEND;VALUE=DATE:20220607
DTSTAMP:20260421T194859
CREATED:20220516T161714Z
LAST-MODIFIED:20220516T161753Z
UID:10000042-1654473600-1654559999@www.maryvillestables.ie
SUMMARY:Horse and Pony Summer League 2022
DESCRIPTION:
URL:https://www.maryvillestables.ie/event/horse-and-pony-summer-league-2022-2/
LOCATION:Maryville Stables\, Ireland
CATEGORIES:2022,Summer
ATTACH;FMTTYPE=image/png:https://www.maryvillestables.ie/uploads/2022/05/Screenshot-2022-05-16-at-17.06.48.png
END:VEVENT
BEGIN:VEVENT
DTSTART;VALUE=DATE:20220528
DTEND;VALUE=DATE:20220529
DTSTAMP:20260421T194859
CREATED:20220516T161202Z
LAST-MODIFIED:20220516T161314Z
UID:10000041-1653696000-1653782399@www.maryvillestables.ie
SUMMARY:Horse and Pony Summer League 2022
DESCRIPTION:
URL:https://www.maryvillestables.ie/event/horse-and-pony-summer-league-2022/
LOCATION:Maryville Stables\, Ireland
CATEGORIES:2022,Summer
ATTACH;FMTTYPE=image/png:https://www.maryvillestables.ie/uploads/2022/05/Screenshot-2022-05-16-at-17.06.48.png
END:VEVENT
BEGIN:VEVENT
DTSTART;VALUE=DATE:20220521
DTEND;VALUE=DATE:20220522
DTSTAMP:20260421T194859
CREATED:20220516T160830Z
LAST-MODIFIED:20220516T161015Z
UID:10000040-1653091200-1653177599@www.maryvillestables.ie
SUMMARY:Horse and Pony Summer League 2022
DESCRIPTION:
URL:https://www.maryvillestables.ie/event/horse-and-pony-spring-summer-2022/
LOCATION:Maryville Stables\, Ireland
CATEGORIES:2022,Summer
ATTACH;FMTTYPE=image/png:https://www.maryvillestables.ie/uploads/2022/05/Screenshot-2022-05-16-at-17.06.48.png
END:VEVENT
BEGIN:VEVENT
DTSTART;VALUE=DATE:20220430
DTEND;VALUE=DATE:20220501
DTSTAMP:20260421T194859
CREATED:20220324T092229Z
LAST-MODIFIED:20220419T090743Z
UID:10000039-1651276800-1651363199@www.maryvillestables.ie
SUMMARY:Horse and Pony Spring League Final 2022
DESCRIPTION:Click Here to view League Tables
URL:https://www.maryvillestables.ie/event/horse-and-pony-spring-league-final-2022/
LOCATION:Maryville Stables\, Ireland
CATEGORIES:2022
ATTACH;FMTTYPE=image/png:https://www.maryvillestables.ie/uploads/2022/03/Screenshot-2022-03-24-at-09.16.37.png
END:VEVENT
BEGIN:VEVENT
DTSTART;VALUE=DATE:20220423
DTEND;VALUE=DATE:20220424
DTSTAMP:20260421T194859
CREATED:20220324T092035Z
LAST-MODIFIED:20220324T092035Z
UID:10000038-1650672000-1650758399@www.maryvillestables.ie
SUMMARY:Horse and Pony Spring League 2022
DESCRIPTION:
URL:https://www.maryvillestables.ie/event/horse-and-pony-spring-league-2022-11/
LOCATION:Maryville Stables\, Ireland
CATEGORIES:2022
ATTACH;FMTTYPE=image/png:https://www.maryvillestables.ie/uploads/2022/03/Screenshot-2022-03-24-at-09.16.37.png
END:VEVENT
BEGIN:VEVENT
DTSTART;VALUE=DATE:20220416
DTEND;VALUE=DATE:20220417
DTSTAMP:20260421T194859
CREATED:20220324T091902Z
LAST-MODIFIED:20220415T085719Z
UID:10000037-1650067200-1650153599@www.maryvillestables.ie
SUMMARY:Horse and Pony Spring League 2022
DESCRIPTION:
URL:https://www.maryvillestables.ie/event/horse-and-pony-spring-league-2022-10/
LOCATION:Maryville Stables\, Ireland
CATEGORIES:2022
ATTACH;FMTTYPE=image/png:https://www.maryvillestables.ie/uploads/2022/03/Screenshot-2022-03-24-at-09.16.37.png
END:VEVENT
BEGIN:VEVENT
DTSTART;VALUE=DATE:20220409
DTEND;VALUE=DATE:20220410
DTSTAMP:20260421T194859
CREATED:20220311T093143Z
LAST-MODIFIED:20220407T090352Z
UID:10000036-1649462400-1649548799@www.maryvillestables.ie
SUMMARY:Horse and Pony Spring League 2022
DESCRIPTION:
URL:https://www.maryvillestables.ie/event/horse-and-pony-spring-league-2022-9/
LOCATION:Maryville Stables\, Ireland
CATEGORIES:2022
ATTACH;FMTTYPE=image/png:https://www.maryvillestables.ie/uploads/2022/03/Screenshot-2022-03-24-at-09.16.37.png
END:VEVENT
BEGIN:VEVENT
DTSTART;VALUE=DATE:20220326
DTEND;VALUE=DATE:20220327
DTSTAMP:20260421T194859
CREATED:20220304T100040Z
LAST-MODIFIED:20220318T102629Z
UID:10000035-1648252800-1648339199@www.maryvillestables.ie
SUMMARY:Horse and Pony Spring League 2022
DESCRIPTION:
URL:https://www.maryvillestables.ie/event/horse-and-pony-spring-league-2022-8/
LOCATION:Maryville Stables\, Ireland
CATEGORIES:2022
ATTACH;FMTTYPE=image/jpeg:https://www.maryvillestables.ie/uploads/2022/01/WhatsApp-Image-2022-01-29-at-2.05.11-PM.jpeg
END:VEVENT
BEGIN:VEVENT
DTSTART;VALUE=DATE:20220319
DTEND;VALUE=DATE:20220320
DTSTAMP:20260421T194859
CREATED:20220304T095832Z
LAST-MODIFIED:20220318T101029Z
UID:10000034-1647648000-1647734399@www.maryvillestables.ie
SUMMARY:Horse and Pony Spring League 2022
DESCRIPTION:
URL:https://www.maryvillestables.ie/event/horse-and-pony-spring-league-2022-7/
LOCATION:Maryville Stables\, Ireland
CATEGORIES:2022
ATTACH;FMTTYPE=image/jpeg:https://www.maryvillestables.ie/uploads/2022/01/WhatsApp-Image-2022-01-29-at-2.05.11-PM.jpeg
END:VEVENT
BEGIN:VEVENT
DTSTART;VALUE=DATE:20220312
DTEND;VALUE=DATE:20220313
DTSTAMP:20260421T194859
CREATED:20220211T095543Z
LAST-MODIFIED:20220311T092845Z
UID:10000032-1647043200-1647129599@www.maryvillestables.ie
SUMMARY:Horse and Pony Spring League 2022
DESCRIPTION:
URL:https://www.maryvillestables.ie/event/horse-and-pony-spring-league-2022-6/
LOCATION:Maryville Stables\, Ireland
CATEGORIES:2022
ATTACH;FMTTYPE=image/jpeg:https://www.maryvillestables.ie/uploads/2022/01/WhatsApp-Image-2022-01-29-at-2.05.11-PM.jpeg
END:VEVENT
BEGIN:VEVENT
DTSTART;VALUE=DATE:20220305
DTEND;VALUE=DATE:20220306
DTSTAMP:20260421T194859
CREATED:20220211T095354Z
LAST-MODIFIED:20220304T095143Z
UID:10000031-1646438400-1646524799@www.maryvillestables.ie
SUMMARY:Horse and Pony Spring League 2022
DESCRIPTION:
URL:https://www.maryvillestables.ie/event/horse-and-pony-spring-league-2022-5/
LOCATION:Maryville Stables\, Ireland
CATEGORIES:2022
ATTACH;FMTTYPE=image/jpeg:https://www.maryvillestables.ie/uploads/2022/01/WhatsApp-Image-2022-01-29-at-2.05.11-PM.jpeg
END:VEVENT
BEGIN:VEVENT
DTSTART;VALUE=DATE:20220226
DTEND;VALUE=DATE:20220227
DTSTAMP:20260421T194859
CREATED:20220131T111539Z
LAST-MODIFIED:20220225T105118Z
UID:10000030-1645833600-1645919999@www.maryvillestables.ie
SUMMARY:Horse and Pony Spring League 2022
DESCRIPTION:
URL:https://www.maryvillestables.ie/event/horse-and-pony-spring-league-2022-4/
LOCATION:Maryville Stables\, Ireland
CATEGORIES:2022
ATTACH;FMTTYPE=image/jpeg:https://www.maryvillestables.ie/uploads/2022/01/WhatsApp-Image-2022-01-29-at-2.05.11-PM.jpeg
END:VEVENT
BEGIN:VEVENT
DTSTART;VALUE=DATE:20220219
DTEND;VALUE=DATE:20220220
DTSTAMP:20260421T194859
CREATED:20220131T111306Z
LAST-MODIFIED:20220218T100607Z
UID:10000029-1645228800-1645315199@www.maryvillestables.ie
SUMMARY:Horse and Pony Spring League 2022
DESCRIPTION:
URL:https://www.maryvillestables.ie/event/horse-and-pony-spring-league-2022-3/
LOCATION:Maryville Stables\, Ireland
CATEGORIES:2022
ATTACH;FMTTYPE=image/jpeg:https://www.maryvillestables.ie/uploads/2022/01/WhatsApp-Image-2022-01-29-at-2.05.11-PM.jpeg
END:VEVENT
BEGIN:VEVENT
DTSTART;VALUE=DATE:20220212
DTEND;VALUE=DATE:20220213
DTSTAMP:20260421T194859
CREATED:20220131T111108Z
LAST-MODIFIED:20220211T095156Z
UID:10000028-1644624000-1644710399@www.maryvillestables.ie
SUMMARY:Horse and Pony Spring League 2022
DESCRIPTION:
URL:https://www.maryvillestables.ie/event/horse-and-pony-spring-league-2022-2/
LOCATION:Maryville Stables\, Ireland
CATEGORIES:2022
ATTACH;FMTTYPE=image/jpeg:https://www.maryvillestables.ie/uploads/2022/01/WhatsApp-Image-2022-01-29-at-2.05.11-PM.jpeg
END:VEVENT
BEGIN:VEVENT
DTSTART;VALUE=DATE:20220205
DTEND;VALUE=DATE:20220206
DTSTAMP:20260421T194859
CREATED:20220131T101937Z
LAST-MODIFIED:20220131T101937Z
UID:10000027-1644019200-1644105599@www.maryvillestables.ie
SUMMARY:Horse and Pony Spring League 2022
DESCRIPTION:
URL:https://www.maryvillestables.ie/event/horse-and-pony-spring-league-2022/
LOCATION:Maryville Stables\, Ireland
CATEGORIES:2022
ATTACH;FMTTYPE=image/jpeg:https://www.maryvillestables.ie/uploads/2022/01/WhatsApp-Image-2022-01-29-at-2.05.11-PM.jpeg
END:VEVENT
BEGIN:VEVENT
DTSTART;VALUE=DATE:20220129
DTEND;VALUE=DATE:20220130
DTSTAMP:20260421T194859
CREATED:20220106T123612Z
LAST-MODIFIED:20220106T124049Z
UID:10000026-1643414400-1643500799@www.maryvillestables.ie
SUMMARY:2022 Spring Derby Cross League
DESCRIPTION:
URL:https://www.maryvillestables.ie/event/2022-spring-derby-cross-league-2022-01-29/
LOCATION:Maryville Stables\, Ireland
ATTACH;FMTTYPE=image/png:https://www.maryvillestables.ie/uploads/2022/01/Screenshot-2022-01-06-at-12.33.07.png
END:VEVENT
BEGIN:VEVENT
DTSTART;VALUE=DATE:20220122
DTEND;VALUE=DATE:20220123
DTSTAMP:20260421T194859
CREATED:20220106T123612Z
LAST-MODIFIED:20220106T123910Z
UID:10000025-1642809600-1642895999@www.maryvillestables.ie
SUMMARY:2022 Spring Derby Cross League
DESCRIPTION:
URL:https://www.maryvillestables.ie/event/2022-spring-derby-cross-league-2022-01-22/
LOCATION:Maryville Stables\, Ireland
ATTACH;FMTTYPE=image/png:https://www.maryvillestables.ie/uploads/2022/01/Screenshot-2022-01-06-at-12.33.07.png
END:VEVENT
BEGIN:VEVENT
DTSTART;VALUE=DATE:20220115
DTEND;VALUE=DATE:20220116
DTSTAMP:20260421T194859
CREATED:20220106T123612Z
LAST-MODIFIED:20221021T094137Z
UID:10000024-1642204800-1642291199@www.maryvillestables.ie
SUMMARY:2022 Spring Derby Cross League
DESCRIPTION:
URL:https://www.maryvillestables.ie/event/2022-spring-derby-cross-league/2022-01-15/
LOCATION:Maryville Stables\, Ireland
ATTACH;FMTTYPE=image/png:https://www.maryvillestables.ie/uploads/2022/01/Screenshot-2022-01-06-at-12.33.07.png
END:VEVENT
BEGIN:VEVENT
DTSTART;VALUE=DATE:20211211
DTEND;VALUE=DATE:20211212
DTSTAMP:20260421T194859
CREATED:20211126T093634Z
LAST-MODIFIED:20211210T094154Z
UID:10000023-1639180800-1639267199@www.maryvillestables.ie
SUMMARY:Autumn / Winter League 2021 Final
DESCRIPTION:
URL:https://www.maryvillestables.ie/event/autumn-winter-league-2021-final/
LOCATION:Maryville Stables\, Ireland
CATEGORIES:2021
ATTACH;FMTTYPE=image/jpeg:https://www.maryvillestables.ie/uploads/2021/09/Flyer-autum-league-2021-correct.jpeg
END:VEVENT
BEGIN:VEVENT
DTSTART;VALUE=DATE:20211204
DTEND;VALUE=DATE:20211205
DTSTAMP:20260421T194859
CREATED:20211120T170201Z
LAST-MODIFIED:20211203T092741Z
UID:10000022-1638576000-1638662399@www.maryvillestables.ie
SUMMARY:Autumn / Winter League 2021
DESCRIPTION:
URL:https://www.maryvillestables.ie/event/autumn-winter-league-2021-11/
LOCATION:Maryville Stables\, Ireland
CATEGORIES:2021
ATTACH;FMTTYPE=image/jpeg:https://www.maryvillestables.ie/uploads/2021/09/Flyer-autum-league-2021-correct.jpeg
END:VEVENT
END:VCALENDAR