BEGIN:VCALENDAR
VERSION:2.0
PRODID:-//Maryville Stables - ECPv6.15.18//NONSGML v1.0//EN
CALSCALE:GREGORIAN
METHOD:PUBLISH
X-ORIGINAL-URL:https://www.maryvillestables.ie
X-WR-CALDESC:Events for Maryville Stables
REFRESH-INTERVAL;VALUE=DURATION:PT1H
X-Robots-Tag:noindex
X-PUBLISHED-TTL:PT1H
BEGIN:VTIMEZONE
TZID:Europe/Dublin
BEGIN:DAYLIGHT
TZOFFSETFROM:+0000
TZOFFSETTO:+0100
TZNAME:IST
DTSTART:20200329T010000
END:DAYLIGHT
BEGIN:STANDARD
TZOFFSETFROM:+0100
TZOFFSETTO:+0000
TZNAME:GMT
DTSTART:20201025T010000
END:STANDARD
BEGIN:DAYLIGHT
TZOFFSETFROM:+0000
TZOFFSETTO:+0100
TZNAME:IST
DTSTART:20210328T010000
END:DAYLIGHT
BEGIN:STANDARD
TZOFFSETFROM:+0100
TZOFFSETTO:+0000
TZNAME:GMT
DTSTART:20211031T010000
END:STANDARD
BEGIN:DAYLIGHT
TZOFFSETFROM:+0000
TZOFFSETTO:+0100
TZNAME:IST
DTSTART:20220327T010000
END:DAYLIGHT
BEGIN:STANDARD
TZOFFSETFROM:+0100
TZOFFSETTO:+0000
TZNAME:GMT
DTSTART:20221030T010000
END:STANDARD
END:VTIMEZONE
BEGIN:VEVENT
DTSTART;VALUE=DATE:20211023
DTEND;VALUE=DATE:20211024
DTSTAMP:20260422T010822
CREATED:20210918T201243Z
LAST-MODIFIED:20211022T083143Z
UID:10000015-1634947200-1635033599@www.maryvillestables.ie
SUMMARY:Autumn / Winter League 2021
DESCRIPTION:
URL:https://www.maryvillestables.ie/event/autumn-winter-league-2021-5/
LOCATION:Maryville Stables\, Ireland
CATEGORIES:2021
ATTACH;FMTTYPE=image/jpeg:https://www.maryvillestables.ie/uploads/2021/09/Flyer-autum-league-2021-correct.jpeg
END:VEVENT
BEGIN:VEVENT
DTSTART;VALUE=DATE:20211016
DTEND;VALUE=DATE:20211017
DTSTAMP:20260422T010822
CREATED:20210918T201114Z
LAST-MODIFIED:20211001T081543Z
UID:10000014-1634342400-1634428799@www.maryvillestables.ie
SUMMARY:Autumn / Winter League 2021
DESCRIPTION:
URL:https://www.maryvillestables.ie/event/autumn-winter-league-2021-4/
LOCATION:Maryville Stables\, Ireland
CATEGORIES:2021
ATTACH;FMTTYPE=image/jpeg:https://www.maryvillestables.ie/uploads/2021/09/Flyer-autum-league-2021-correct.jpeg
END:VEVENT
BEGIN:VEVENT
DTSTART;VALUE=DATE:20211009
DTEND;VALUE=DATE:20211010
DTSTAMP:20260422T010822
CREATED:20210918T200935Z
LAST-MODIFIED:20211001T081459Z
UID:10000013-1633737600-1633823999@www.maryvillestables.ie
SUMMARY:Autumn / Winter League 2021
DESCRIPTION:
URL:https://www.maryvillestables.ie/event/autumn-winter-league-2021-3/
LOCATION:Maryville Stables\, Ireland
CATEGORIES:2021
ATTACH;FMTTYPE=image/jpeg:https://www.maryvillestables.ie/uploads/2021/09/Flyer-autum-league-2021-correct.jpeg
END:VEVENT
BEGIN:VEVENT
DTSTART;VALUE=DATE:20211002
DTEND;VALUE=DATE:20211003
DTSTAMP:20260422T010822
CREATED:20210918T200804Z
LAST-MODIFIED:20211001T081356Z
UID:10000012-1633132800-1633219199@www.maryvillestables.ie
SUMMARY:Autumn / Winter League 2021
DESCRIPTION:
URL:https://www.maryvillestables.ie/event/autumn-winter-league-2021-2/
LOCATION:Maryville Stables\, Ireland
CATEGORIES:2021
ATTACH;FMTTYPE=image/jpeg:https://www.maryvillestables.ie/uploads/2021/09/Flyer-autum-league-2021-correct.jpeg
END:VEVENT
BEGIN:VEVENT
DTSTART;VALUE=DATE:20210925
DTEND;VALUE=DATE:20210926
DTSTAMP:20260422T010822
CREATED:20210918T200540Z
LAST-MODIFIED:20210922T132418Z
UID:10000011-1632528000-1632614399@www.maryvillestables.ie
SUMMARY:Autumn / Winter League 2021
DESCRIPTION:
URL:https://www.maryvillestables.ie/event/autumn-winter-league-2021/
LOCATION:Maryville Stables\, Ireland
CATEGORIES:2021
ATTACH;FMTTYPE=image/jpeg:https://www.maryvillestables.ie/uploads/2021/09/Flyer-autum-league-2021-correct.jpeg
END:VEVENT
BEGIN:VEVENT
DTSTART;VALUE=DATE:20210918
DTEND;VALUE=DATE:20210919
DTSTAMP:20260422T010822
CREATED:20210830T220800Z
LAST-MODIFIED:20210830T221510Z
UID:10000010-1631923200-1632009599@www.maryvillestables.ie
SUMMARY:September Derby Cross League
DESCRIPTION:
URL:https://www.maryvillestables.ie/event/september-derby-cross-league-2021-09-18/
LOCATION:Maryville Stables\, Ireland
CATEGORIES:2021
ATTACH;FMTTYPE=image/png:https://www.maryvillestables.ie/uploads/2021/08/Screenshot-2021-08-30-at-23.03.23.png
END:VEVENT
BEGIN:VEVENT
DTSTART;VALUE=DATE:20210911
DTEND;VALUE=DATE:20210912
DTSTAMP:20260422T010822
CREATED:20210830T220800Z
LAST-MODIFIED:20210830T221324Z
UID:10000009-1631318400-1631404799@www.maryvillestables.ie
SUMMARY:September Derby Cross League
DESCRIPTION:
URL:https://www.maryvillestables.ie/event/september-derby-cross-league-2021-09-11/
LOCATION:Maryville Stables\, Ireland
CATEGORIES:2021
ATTACH;FMTTYPE=image/png:https://www.maryvillestables.ie/uploads/2021/08/Screenshot-2021-08-30-at-23.03.23.png
END:VEVENT
BEGIN:VEVENT
DTSTART;VALUE=DATE:20210904
DTEND;VALUE=DATE:20210905
DTSTAMP:20260422T010822
CREATED:20210830T220800Z
LAST-MODIFIED:20221021T094313Z
UID:10000008-1630713600-1630799999@www.maryvillestables.ie
SUMMARY:September Derby Cross League
DESCRIPTION:
URL:https://www.maryvillestables.ie/event/september-derby-cross-league/2021-09-04/
LOCATION:Maryville Stables\, Ireland
CATEGORIES:2021
ATTACH;FMTTYPE=image/png:https://www.maryvillestables.ie/uploads/2021/08/Screenshot-2021-08-30-at-23.03.23.png
END:VEVENT
BEGIN:VEVENT
DTSTART;VALUE=DATE:20210724
DTEND;VALUE=DATE:20210726
DTSTAMP:20260422T010822
CREATED:20210619T131242Z
LAST-MODIFIED:20210718T204634Z
UID:10000007-1627084800-1627257599@www.maryvillestables.ie
SUMMARY:Pony Festival
DESCRIPTION:Incorporating the interprovincial series\, Walter Reape Newcomers\, Equestrian World of Maynooth u-8s and u-10s and Bob Sweeney Equine Ltd. Future Champions Series \n⭐️⭐️⭐️Plenty Novelty classes also over the weekend!!!!⭐️⭐️⭐️
URL:https://www.maryvillestables.ie/event/pony-festival/
LOCATION:Maryville Stables\, Ireland
CATEGORIES:2021
END:VEVENT
BEGIN:VEVENT
DTSTART;VALUE=DATE:20210716
DTEND;VALUE=DATE:20210719
DTSTAMP:20260422T010822
CREATED:20210619T131209Z
LAST-MODIFIED:20210716T175308Z
UID:10000006-1626393600-1626652799@www.maryvillestables.ie
SUMMARY:3 Day Show (HSI Studbook\, Munster GP\, NGP)
DESCRIPTION:
URL:https://www.maryvillestables.ie/event/3-day-show-hsi-studbook-munster-gp-ngp/
LOCATION:Maryville Stables\, Ireland
CATEGORIES:2021
END:VEVENT
BEGIN:VEVENT
DTSTART;VALUE=DATE:20210711
DTEND;VALUE=DATE:20210712
DTSTAMP:20260422T010822
CREATED:20210619T131135Z
LAST-MODIFIED:20210619T131135Z
UID:10000005-1625961600-1626047999@www.maryvillestables.ie
SUMMARY:Munster League Grand Prix
DESCRIPTION:
URL:https://www.maryvillestables.ie/event/munster-league-grand-prix/
LOCATION:Maryville Stables\, Ireland
CATEGORIES:2021
END:VEVENT
BEGIN:VEVENT
DTSTART;VALUE=DATE:20210710
DTEND;VALUE=DATE:20210711
DTSTAMP:20260422T010822
CREATED:20210422T185854Z
LAST-MODIFIED:20210709T090551Z
UID:10000003-1625875200-1625961599@www.maryvillestables.ie
SUMMARY:Summer Training (10th July)
DESCRIPTION:
URL:https://www.maryvillestables.ie/event/summer-training-10-july/
LOCATION:Maryville Stables\, Ireland
CATEGORIES:2021,Summer
ATTACH;FMTTYPE=image/jpeg:https://www.maryvillestables.ie/uploads/Maryville15.jpg
END:VEVENT
BEGIN:VEVENT
DTSTART;VALUE=DATE:20210703
DTEND;VALUE=DATE:20210704
DTSTAMP:20260422T010822
CREATED:20210422T185726Z
LAST-MODIFIED:20210616T211112Z
UID:10000002-1625270400-1625356799@www.maryvillestables.ie
SUMMARY:Summer Training (3rd July)
DESCRIPTION:
URL:https://www.maryvillestables.ie/event/summer-training-3-july/
LOCATION:Maryville Stables\, Ireland
CATEGORIES:2021,Summer
ATTACH;FMTTYPE=image/jpeg:https://www.maryvillestables.ie/uploads/Maryville15.jpg
END:VEVENT
BEGIN:VEVENT
DTSTART;VALUE=DATE:20210627
DTEND;VALUE=DATE:20210628
DTSTAMP:20260422T010822
CREATED:20210619T131114Z
LAST-MODIFIED:20210619T131114Z
UID:10000004-1624752000-1624838399@www.maryvillestables.ie
SUMMARY:Youngster and Five Star Tour
DESCRIPTION:
URL:https://www.maryvillestables.ie/event/youngster-and-five-star-tour/
LOCATION:Maryville Stables\, Ireland
END:VEVENT
END:VCALENDAR